BEGIN:VCALENDAR
VERSION:2.0
PRODID:-//Special Parent Information Network: Hawaii - ECPv6.13.2.1//NONSGML v1.0//EN
CALSCALE:GREGORIAN
METHOD:PUBLISH
X-ORIGINAL-URL:https://spinhawaii.org
X-WR-CALDESC:Events for Special Parent Information Network: Hawaii
REFRESH-INTERVAL;VALUE=DURATION:PT1H
X-Robots-Tag:noindex
X-PUBLISHED-TTL:PT1H
BEGIN:VTIMEZONE
TZID:Pacific/Honolulu
BEGIN:STANDARD
TZOFFSETFROM:-1000
TZOFFSETTO:-1000
TZNAME:HST
DTSTART:20240101T000000
END:STANDARD
END:VTIMEZONE
BEGIN:VEVENT
DTSTART;TZID=Pacific/Honolulu:20241014T080000
DTEND;TZID=Pacific/Honolulu:20241014T170000
DTSTAMP:20260425T084248
CREATED:20241014T214230Z
LAST-MODIFIED:20241014T214230Z
UID:8057-1728892800-1728925200@spinhawaii.org
SUMMARY:Molokai TMC
DESCRIPTION:To register\, click here
URL:https://spinhawaii.org/events/molokai-tmc/
END:VEVENT
END:VCALENDAR