BEGIN:VCALENDAR
VERSION:2.0
PRODID:-//Special Parent Information Network: Hawaii - ECPv6.13.2.1//NONSGML v1.0//EN
CALSCALE:GREGORIAN
METHOD:PUBLISH
X-WR-CALNAME:Special Parent Information Network: Hawaii
X-ORIGINAL-URL:https://spinhawaii.org
X-WR-CALDESC:Events for Special Parent Information Network: Hawaii
REFRESH-INTERVAL;VALUE=DURATION:PT1H
X-Robots-Tag:noindex
X-PUBLISHED-TTL:PT1H
BEGIN:VTIMEZONE
TZID:Pacific/Honolulu
BEGIN:STANDARD
TZOFFSETFROM:-1000
TZOFFSETTO:-1000
TZNAME:HST
DTSTART:20240101T000000
END:STANDARD
END:VTIMEZONE
BEGIN:VEVENT
DTSTART;TZID=Pacific/Honolulu:20241017T130000
DTEND;TZID=Pacific/Honolulu:20241017T140000
DTSTAMP:20260425T112706
CREATED:20240924T202457Z
LAST-MODIFIED:20240924T202457Z
UID:8040-1729170000-1729173600@spinhawaii.org
SUMMARY:Easter Seals Lifespan of Services Seminar
DESCRIPTION:The University of Hawaiʻi at Mānoa Center on Disability Studies’ upcoming Partner Seminar\, “Providing a Lifespan of Services for Individuals with Intellectual and Developmental Delays and Disabilities”. This is a free Partner Seminar webinar taking place via zoom on Thursday\, October 17th\, 2024 from 1:00pm to 2:00pm HST. \nParticipants will learn about Easterseals Hawaii’s services\, current research and individualized family and client support\, and new technology and program designs. \nRegister to reserve your spot now by going to the following link: https://go.hawaii.edu/E6a or signing up via the QR code in our flyer. And feel free to share our flyer and information with your own networks!
URL:https://spinhawaii.org/events/easter-seals-lifespan-of-services-seminar/
LOCATION:On Your Computer
END:VEVENT
END:VCALENDAR