BEGIN:VCALENDAR
VERSION:2.0
PRODID:-//Special Parent Information Network: Hawaii - ECPv6.13.2.1//NONSGML v1.0//EN
CALSCALE:GREGORIAN
METHOD:PUBLISH
X-WR-CALNAME:Special Parent Information Network: Hawaii
X-ORIGINAL-URL:https://spinhawaii.org
X-WR-CALDESC:Events for Special Parent Information Network: Hawaii
REFRESH-INTERVAL;VALUE=DURATION:PT1H
X-Robots-Tag:noindex
X-PUBLISHED-TTL:PT1H
BEGIN:VTIMEZONE
TZID:Pacific/Honolulu
BEGIN:STANDARD
TZOFFSETFROM:-1000
TZOFFSETTO:-1000
TZNAME:HST
DTSTART:20240101T000000
END:STANDARD
END:VTIMEZONE
BEGIN:VEVENT
DTSTART;TZID=Pacific/Honolulu:20241018T083000
DTEND;TZID=Pacific/Honolulu:20241018T160000
DTSTAMP:20260425T100949
CREATED:20240917T184743Z
LAST-MODIFIED:20240917T184743Z
UID:8011-1729240200-1729267200@spinhawaii.org
SUMMARY:Stakeholder Input Meeting for Alternative Assessments
DESCRIPTION:The Assessment Section would like to extend their invitation to the forthcoming Hawaii State Alternate Assessment (HSA-Alt) Stakeholder Committee meeting where the accessibility experts at the state and complex area level\, teachers for the HSA-Alt eligible students\, special education advocates\, parents of children with significant cognitive disabilities\, and community members review and provide feedback on the ongoing HSA-Alt program and future development. Your input and expertise are greatly appreciated and we believe your participation will contribute significantly to the success of the meeting.  \nIn-person meeting Friday\, October 18.2024 from 8:30 am to 4 pm at the Alamoana Hotel. \nThe committee will review and provide feedback on the development of the HSA-Alt program which includes: \n\nNew HSA-Alt Decision-Making Tool\,\nHSA-Alt 1 % Participation Action Plan\,\nHSA-Alt Shortened Test Proposal\, and\nPilot HSA-Alt Classroom Embedded Assessment.\n\n\nIf you would like to participate in the HSA-Alt Stakeholder Committee\, please register using the link https://tinyurl.com/24-Alt-stakeholder no later than Friday\, October 4th.  \nAll non-Department employees will receive a stipend of $194.01 per day. All participants will need to bring a computer or mobile device that can connect to the internet wirelessly for the meeting. \nIf you have any questions\, please contact Hwa Hee Sohn\, Test Development Specialist\, Assessment Section\, at 808-307-3636 or via email at Hwa_Hee.Sohn@k12.hi.us. \n\n\nWe appreciate your attendance.
URL:https://spinhawaii.org/events/stakeholder-input-meeting-for-alternative-assessments/
LOCATION:Ala Moana Hotel\, 410 Atkinson Dr.\, Honolulu\, HI\, 96814\, United States
END:VEVENT
BEGIN:VEVENT
DTSTART;TZID=Pacific/Honolulu:20241018T180000
DTEND;TZID=Pacific/Honolulu:20241018T193000
DTSTAMP:20260425T100949
CREATED:20240918T190501Z
LAST-MODIFIED:20240918T190501Z
UID:8032-1729274400-1729279800@spinhawaii.org
SUMMARY:Best Buddies Transition & Work Readiness
DESCRIPTION:To register\, click here \n \n 
URL:https://spinhawaii.org/events/best-buddies-transition-work-readiness/
LOCATION:UH Lab School\, 1776 University Ave.\, Honolulu\, HI\, United States
END:VEVENT
END:VCALENDAR