BEGIN:VCALENDAR
VERSION:2.0
PRODID:-//Special Parent Information Network: Hawaii - ECPv6.13.2.1//NONSGML v1.0//EN
CALSCALE:GREGORIAN
METHOD:PUBLISH
X-ORIGINAL-URL:https://spinhawaii.org
X-WR-CALDESC:Events for Special Parent Information Network: Hawaii
REFRESH-INTERVAL;VALUE=DURATION:PT1H
X-Robots-Tag:noindex
X-PUBLISHED-TTL:PT1H
BEGIN:VTIMEZONE
TZID:Pacific/Honolulu
BEGIN:STANDARD
TZOFFSETFROM:-1000
TZOFFSETTO:-1000
TZNAME:HST
DTSTART:20240101T000000
END:STANDARD
END:VTIMEZONE
BEGIN:VEVENT
DTSTART;TZID=Pacific/Honolulu:20241019T090000
DTEND;TZID=Pacific/Honolulu:20241019T130000
DTSTAMP:20260425T084259
CREATED:20240918T221525Z
LAST-MODIFIED:20240918T221525Z
UID:8037-1729328400-1729342800@spinhawaii.org
SUMMARY:Care Mapping Workshop - East Hawaii
DESCRIPTION:To register\, click here \nPlease join the Department of Education\, Hilopaa and LEND for a Care Mapping workshop!\n\nWhat is Care Mapping?  It is a process which guides and supports the ability of families and care professionals to work together to achieve the best possible health and educational outcomes.  It shows the needs and supports required for a child with a disability in a visual “map” that you create in real-time.  It is very helpful in determining your child’s needs and required services. It can help to create appropriate care plans\, improve your child’s life\, and even assist in advocacy.\nIn a nutshell: it will show you where your child is receiving supports and where the gaps are.
URL:https://spinhawaii.org/events/care-mapping-workshop-east-hawaii/
LOCATION:Keaau High School Library\, 16-725 Keaau Pahoa Rd.\, Keaau\, HI\, 96749\, United States
END:VEVENT
BEGIN:VEVENT
DTSTART;TZID=Pacific/Honolulu:20241019T090000
DTEND;TZID=Pacific/Honolulu:20241019T140000
DTSTAMP:20260425T084259
CREATED:20240801T000524Z
LAST-MODIFIED:20240909T213617Z
UID:7909-1729328400-1729346400@spinhawaii.org
SUMMARY:Kauai Footsteps to Transition Fair
DESCRIPTION:To register\, click here \n \n \n 
URL:https://spinhawaii.org/events/kauai-footsteps-to-transition-fair/
LOCATION:Kauai Veteran’s Center\, 3215 Kapule Hwy.\, Lihue\, HI\, 96766\, United States
END:VEVENT
END:VCALENDAR