BEGIN:VCALENDAR
VERSION:2.0
PRODID:-//Special Parent Information Network: Hawaii - ECPv6.13.2.1//NONSGML v1.0//EN
CALSCALE:GREGORIAN
METHOD:PUBLISH
X-ORIGINAL-URL:https://spinhawaii.org
X-WR-CALDESC:Events for Special Parent Information Network: Hawaii
REFRESH-INTERVAL;VALUE=DURATION:PT1H
X-Robots-Tag:noindex
X-PUBLISHED-TTL:PT1H
BEGIN:VTIMEZONE
TZID:Pacific/Honolulu
BEGIN:STANDARD
TZOFFSETFROM:-1000
TZOFFSETTO:-1000
TZNAME:HST
DTSTART:20250101T000000
END:STANDARD
END:VTIMEZONE
BEGIN:VEVENT
DTSTART;TZID=Pacific/Honolulu:20250325T043000
DTEND;TZID=Pacific/Honolulu:20250325T190000
DTSTAMP:20260425T013844
CREATED:20250205T210548Z
LAST-MODIFIED:20250205T210548Z
UID:8228-1742877000-1742929200@spinhawaii.org
SUMMARY:Hilo Footsteps to Transition - In person
DESCRIPTION:To Register\, click here \n\nThe Department of Education\, Hilo-Waiakea and Kau-Kea’au-Pahoa Complex Areas\, would like to invite you to their in-person Footsteps to Transition Fair\, to help families and youth with disabilities think about\, plan and prepare for life after high school.  Come learn from knowledgeable presentations and meet local community organizations that can help in the transition from high school to adult life.\n\nWHAT: Footsteps to Transition Fair\nDATE: Tuesday\, March 25\, 2025\nTIME: 4:30 – 7:30 pm\nWHERE: Arc of Hilo\, 1099 Waianuenue Ave\, Hilo\, HI 96720\n\nREGISTER by March 10\nhttps://docs.google.com/forms/d/e/1FAIpQLSdUWpfwo7FltYfZ6eW-3XTGYKuuIvLBi2ec8N4ReLQVMBbttA/viewform\n\n\nFor more information about Footsteps to Transition events happening in your area\, and to learn more about transition resources\, visit: https://footstepstotransition.weebly.com/
URL:https://spinhawaii.org/events/hilo-footsteps-to-transition-in-person/
LOCATION:ARC of Hilo\, 1099 Wainuenue Ave.\, Hilo\, Hawaii\, 96720
END:VEVENT
END:VCALENDAR