BEGIN:VCALENDAR
VERSION:2.0
PRODID:-//Special Parent Information Network: Hawaii - ECPv6.13.2.1//NONSGML v1.0//EN
CALSCALE:GREGORIAN
METHOD:PUBLISH
X-ORIGINAL-URL:https://spinhawaii.org
X-WR-CALDESC:Events for Special Parent Information Network: Hawaii
REFRESH-INTERVAL;VALUE=DURATION:PT1H
X-Robots-Tag:noindex
X-PUBLISHED-TTL:PT1H
BEGIN:VTIMEZONE
TZID:Pacific/Honolulu
BEGIN:STANDARD
TZOFFSETFROM:-1000
TZOFFSETTO:-1000
TZNAME:HST
DTSTART:20250101T000000
END:STANDARD
END:VTIMEZONE
BEGIN:VEVENT
DTSTART;TZID=Pacific/Honolulu:20250728T163000
DTEND;TZID=Pacific/Honolulu:20250728T173000
DTSTAMP:20260424T120625
CREATED:20250709T175244Z
LAST-MODIFIED:20250709T175244Z
UID:8424-1753720200-1753723800@spinhawaii.org
SUMMARY:Improv & Acting Workshop
DESCRIPTION:To register\, click here \n \n\n📅 EVENT DATE:\nMonday July 28\, 2025\n\n⏰ TIME:\n430-530 PM\n\n📍LOCATION:\nTiny Stage Kaka’ako\n419 South Street\nSuite 163\nHonolulu\, HI 96813\n\n🔗 REGISTRATION LINK:\nhttps://www.zeffy.com/ticketing/improv-acting-workshop \n\n\n\n\n\n🎯 AGES SERVED & CAPACITY:\nThis class is for ages 10 and above\nThis is a limited space class!\n\n💸 PRICE:\nThis class is $20\, sign up and let’s have fun!\n\n🖊️ ABOUT THE PROGRAMS:\n\nWe are excited to bring you a collaborative improv/acting workshop with Improv Hawaii and The Heartbeat Movement.  In this hour we will explore improv techniques for acting and have a blast performing together! \nThe Heartbeat Movement is a non profit program for individuals with Intellectual and Developmental Disabilities.  Our mission is to provide an outlet for creative expression through the medium of dance and performing arts.  It exists to motivate students of all ages with physical and mental challenges\, aiding in physical coordination\, creating connections to the mind and body\, and inspiring confidence.  The participation in classes and performances builds friendships and creates positive relationships with all members of the community. \n\n \n⁉️ QUESTIONS\, COMMENTS\, CONCERNS:\nPlease don’t hesitate to reach out with any questions to\ninfo@theheartbeatmovment.org
URL:https://spinhawaii.org/events/improv-acting-workshop/
END:VEVENT
END:VCALENDAR