BEGIN:VCALENDAR
VERSION:2.0
PRODID:-//Special Parent Information Network: Hawaii - ECPv6.13.2.1//NONSGML v1.0//EN
CALSCALE:GREGORIAN
METHOD:PUBLISH
X-WR-CALNAME:Special Parent Information Network: Hawaii
X-ORIGINAL-URL:https://spinhawaii.org
X-WR-CALDESC:Events for Special Parent Information Network: Hawaii
REFRESH-INTERVAL;VALUE=DURATION:PT1H
X-Robots-Tag:noindex
X-PUBLISHED-TTL:PT1H
BEGIN:VTIMEZONE
TZID:Pacific/Honolulu
BEGIN:STANDARD
TZOFFSETFROM:-1000
TZOFFSETTO:-1000
TZNAME:HST
DTSTART:20250101T000000
END:STANDARD
END:VTIMEZONE
BEGIN:VEVENT
DTSTART;TZID=Pacific/Honolulu:20250917T153000
DTEND;TZID=Pacific/Honolulu:20250917T170000
DTSTAMP:20260424T001202
CREATED:20250828T204458Z
LAST-MODIFIED:20250828T204458Z
UID:8445-1758123000-1758128400@spinhawaii.org
SUMMARY:Interpersonal Skills Group for Teens & Caregivers
DESCRIPTION:To register\, click here \nIs this group right for you? \nAre you seeking skills to communicate authentically with your teen or caregiver?  Could your family benefit from more validation? Would you like to maintain relationships throughout challenging times? If yes\,  then this group is right for you! \nDBT Skills Group for Teens Caregivers on Interpersonal Effectiveness. Free skills group for teens. \nBegins September 17 (6 sessions total) on Wednesdays from 3:30 – 5:00 pm. \nGroups will be held over Zoom. \nSign up by scanning the QR code below or click the link above. \nFor more information\, contact Pearl Wongserbchart. Email: doh.camhd.groups@doh.hawaii.gov or call (808) 861-2755 \n   \n 
URL:https://spinhawaii.org/events/interpersonal-skills-group-for-teens-caregivers/
LOCATION:Zoom
END:VEVENT
BEGIN:VEVENT
DTSTART;TZID=Pacific/Honolulu:20250917T170000
DTEND;TZID=Pacific/Honolulu:20250917T180000
DTSTAMP:20260424T001202
CREATED:20250828T210758Z
LAST-MODIFIED:20250828T210758Z
UID:8459-1758128400-1758132000@spinhawaii.org
SUMMARY:LDAH Learning Lab: Go Baby Go event & TMC Info
DESCRIPTION:To register\, click here \n\n\n\n\n\n\n\nPlease join LDAH-Leadership in Disabilities & Achievement of Hawaii for our Learning Lab: Building Leaders in Parents creates a community of voices. Be part of the solution for your child receiving specially designed instruction under IDEA.\n\n\nSeptember 17  Go Baby Go & TMC: GBG is looking for families\, learn about this program and more from Dr. Patty Coker-Boltz……. Access Unlocked\, our 18th Annual Traveling Mini Conference is about to begin.\nWe highly recommend bringing your spirit of learning and engagement to our Learning Labs\nTime: 5:00 pm – 6:00pm\nLocation: Zoom Platform\n\nTo register: call our office at 808-536-9684\, QR code on flyer or this registration link below:\nhttps://forms.gle/qfrdGd4JK8jFHNua9
URL:https://spinhawaii.org/events/ldah-learning-lab-go-baby-go-event-tmc-info/
LOCATION:Zoom
END:VEVENT
END:VCALENDAR