BEGIN:VCALENDAR
VERSION:2.0
PRODID:-//Special Parent Information Network: Hawaii - ECPv6.13.2.1//NONSGML v1.0//EN
CALSCALE:GREGORIAN
METHOD:PUBLISH
X-ORIGINAL-URL:https://spinhawaii.org
X-WR-CALDESC:Events for Special Parent Information Network: Hawaii
REFRESH-INTERVAL;VALUE=DURATION:PT1H
X-Robots-Tag:noindex
X-PUBLISHED-TTL:PT1H
BEGIN:VTIMEZONE
TZID:Pacific/Honolulu
BEGIN:STANDARD
TZOFFSETFROM:-1000
TZOFFSETTO:-1000
TZNAME:HST
DTSTART:20250101T000000
END:STANDARD
END:VTIMEZONE
BEGIN:VEVENT
DTSTART;TZID=Pacific/Honolulu:20250929T130000
DTEND;TZID=Pacific/Honolulu:20250929T140000
DTSTAMP:20260423T230555
CREATED:20250829T001833Z
LAST-MODIFIED:20250829T001833Z
UID:8484-1759150800-1759154400@spinhawaii.org
SUMMARY:Child & Family Services Support & Learning Group
DESCRIPTION:For more information\, call Child & Family Services at 808-681-1438 \nThe Ohana Support Services Program at Child & Family Services will continue its last two Parent Support Groups session using the Nurturing Parenting Curriculum. Groups are open to all parents and caregivers statewide and hosted via zoom.  Feel free to share this resource and reach out to us if you have any questions. Mahalo! \nUnderstanding Stress: Problem Solving\, Decision Making\, Negotiation & Compromise\nMonday September 29\, 2025 from 1:00- 2:00 pm with Charlotte \nTo Zoom with Charlotte\, click here
URL:https://spinhawaii.org/events/child-family-services-support-learning-group/
LOCATION:Zoom
ORGANIZER;CN="Child & Family Service":MAILTO:rlsoon@cfs-hawaii.org
END:VEVENT
BEGIN:VEVENT
DTSTART;TZID=Pacific/Honolulu:20250929T170000
DTEND;TZID=Pacific/Honolulu:20250929T200000
DTSTAMP:20260423T230556
CREATED:20250828T194616Z
LAST-MODIFIED:20250828T194616Z
UID:8442-1759165200-1759176000@spinhawaii.org
SUMMARY:First Aid/CPR for Youth with Disabilities
DESCRIPTION:Interested in learning how to perform First Aid/CPR/AED tailored to the disability community? \nWellness Matters Program \nInclusive First Aid/CPR/AED \nOffered by Dr. Kelle Murphy\, Center on Disability Studies\, UHM \nReceive American Heart Association certification in First Aid/CPR/AED \n  \nEligibility: Disability community- open to individuals with I/DD including family members and caregivers. \nWhen: Upcoming Session in September/October- Monday September 29 from 5-8 PM and Thursday October 2 from 5-8 PM \n     *Participants must attend both classes to receive certification. Day 1- First Aid; Day 2- CPR/AED \nWhere: Center on Disability Studies Library University of Hawai’i at Mānoa\, 1410 Lower Campus Rd #171F\, Honolulu\, HI 96822 \nCost: $17.80 per person. Limited to the first six participants. \nRegister: Email Dr. Kelle Murphy at kellem@hawaii.edu by September 22\, 12:00 noon.
URL:https://spinhawaii.org/events/first-aid-cpr-for-youth-with-disabilities/
LOCATION:Center on Disability Studies\, 1410 Lower Campus Rd. #171F\, Honolulu\, Hawaii\, 96822
END:VEVENT
END:VCALENDAR