BEGIN:VCALENDAR
VERSION:2.0
PRODID:-//Special Parent Information Network: Hawaii - ECPv6.13.2.1//NONSGML v1.0//EN
CALSCALE:GREGORIAN
METHOD:PUBLISH
X-ORIGINAL-URL:https://spinhawaii.org
X-WR-CALDESC:Events for Special Parent Information Network: Hawaii
REFRESH-INTERVAL;VALUE=DURATION:PT1H
X-Robots-Tag:noindex
X-PUBLISHED-TTL:PT1H
BEGIN:VTIMEZONE
TZID:Pacific/Honolulu
BEGIN:STANDARD
TZOFFSETFROM:-1000
TZOFFSETTO:-1000
TZNAME:HST
DTSTART:20250101T000000
END:STANDARD
END:VTIMEZONE
BEGIN:VEVENT
DTSTART;TZID=Pacific/Honolulu:20251013T083000
DTEND;TZID=Pacific/Honolulu:20251013T150000
DTSTAMP:20260424T003040
CREATED:20251003T202739Z
LAST-MODIFIED:20251003T202739Z
UID:8532-1760344200-1760367600@spinhawaii.org
SUMMARY:IDEA Bootcamp for Parents
DESCRIPTION:To register\, click here \nThe Hawaiʻi State Department of Education (Department)\, Monitoring and Compliance Branch\, is hosting a one-day training for parents of students with disabilities whose children are currently receiving special education services through the Department or suspect that their children may have an educational disability. Parent training information centers that support parents of students with disabilities\, as well as educational advocates\, may attend. This training is not for licensed attorneys who appear before the IDEA hearing officers of the Office of Dispute Resolution. The training\, led by Deusdedi Merced\, Esq. of Special Education Solutions\, LLC\, a nationally recognized expert in special education law\, is designed to strengthen understanding and support effective implementation of the Individuals with Disabilities Education Act (IDEA) and Hawaiʻi Administrative Rules (HAR) Chapter 60. \nDate: Monday\, October 13\, 2025 \nTime: 8:30 am – 3:00 pm \nLocation: Windward Community College\, Hale ʻĀkoakoa Atrium\, Room 101 \nVirtual Option Available: Participants may attend via Zoom. \n\n\n https://us02web.zoom.us/j/84436323654 \n\n\nMeeting ID: 844 3632 3654 \n\n\nRegistration:  Click here to register\, or see the flyer for a QR code and clickable link \nQuestions? Contact the Monitoring and Compliance Branch at (808) 307-3600.\n\nReimbursement for Neighbor Island Travel\nIf you are travelling from a neighbor island\, the Monitoring and Compliance Branch will reimburse for airfare and ground transportation up to $300. You must attend the whole day training from 8:30 a.m. – 3:00 p.m. to be eligible for reimbursement.\n\nTo request reimbursement from the Monitoring and Compliance Branch\, please complete the Supplier Information section on the Reimbursement Form with a copy of your Driver’s License\, boarding passes\, and transportation receipt(s) and submit it to Wendy Smith at wendy.smith@k12.hi.us. The School/Office Information and Administrator’s Authorization sections have been completed by the Monitoring and Compliance Branch. Please do not change these sections. \nDeadline to submit your reimbursement request is Friday\, October 24\, 2025.\nShould you have any questions\, please contact Wendy Smith and Aleena Ashton at\n(808) 307-3600.
URL:https://spinhawaii.org/events/idea-bootcamp-for-parents/
LOCATION:Windward Community College\, 45-720 Keaahala Rd. \, Kaneohe\, HI\, 96744\, United States
END:VEVENT
END:VCALENDAR