BEGIN:VCALENDAR
VERSION:2.0
PRODID:-//Special Parent Information Network: Hawaii - ECPv6.13.2.1//NONSGML v1.0//EN
CALSCALE:GREGORIAN
METHOD:PUBLISH
X-ORIGINAL-URL:https://spinhawaii.org
X-WR-CALDESC:Events for Special Parent Information Network: Hawaii
REFRESH-INTERVAL;VALUE=DURATION:PT1H
X-Robots-Tag:noindex
X-PUBLISHED-TTL:PT1H
BEGIN:VTIMEZONE
TZID:Pacific/Honolulu
BEGIN:STANDARD
TZOFFSETFROM:-1000
TZOFFSETTO:-1000
TZNAME:HST
DTSTART:20250101T000000
END:STANDARD
END:VTIMEZONE
BEGIN:VEVENT
DTSTART;TZID=Pacific/Honolulu:20251022T170000
DTEND;TZID=Pacific/Honolulu:20251022T180000
DTSTAMP:20260423T230440
CREATED:20251003T210044Z
LAST-MODIFIED:20251003T210044Z
UID:8537-1761152400-1761156000@spinhawaii.org
SUMMARY:LDAH Learning Lab: Specially Designed Instruction
DESCRIPTION:To register\, click here \nPlease join LDAH – Leadership in Disabilities and Achievement Hawaii – Building Leaders in Parents creates a community of voices.  Be part of the solution for your child receiving specially designed instruction under IDEA. \n     Our Guest Presenter Dr. Tierney Barcarse Hawaii Department of Education Special Education District Education Specialist  will be presenting on the following topics: \n\nOctober 22   What is specially designed instruction(SDI) \, why is it important\, how is it calculated in the IEP\, and how to communicate with the Team about SDI\n\nWe highly recommend bringing your spirit of learning and engagement to our Learning Labs \nTime: 5:00 pm – 6:00pm \nLocation: Zoom Platform \nTo register:  call our office at 808-536-9684
URL:https://spinhawaii.org/events/ldah-learning-lab-specially-designed-instruction/
LOCATION:Zoom
END:VEVENT
END:VCALENDAR