BEGIN:VCALENDAR
VERSION:2.0
PRODID:-//Special Parent Information Network: Hawaii - ECPv6.13.2.1//NONSGML v1.0//EN
CALSCALE:GREGORIAN
METHOD:PUBLISH
X-WR-CALNAME:Special Parent Information Network: Hawaii
X-ORIGINAL-URL:https://spinhawaii.org
X-WR-CALDESC:Events for Special Parent Information Network: Hawaii
REFRESH-INTERVAL;VALUE=DURATION:PT1H
X-Robots-Tag:noindex
X-PUBLISHED-TTL:PT1H
BEGIN:VTIMEZONE
TZID:Pacific/Honolulu
BEGIN:STANDARD
TZOFFSETFROM:-1000
TZOFFSETTO:-1000
TZNAME:HST
DTSTART:20250101T000000
END:STANDARD
END:VTIMEZONE
BEGIN:VEVENT
DTSTART;TZID=Pacific/Honolulu:20251101T170000
DTEND;TZID=Pacific/Honolulu:20251101T190000
DTSTAMP:20260423T073340
CREATED:20251017T012156Z
LAST-MODIFIED:20251017T012156Z
UID:8563-1762016400-1762023600@spinhawaii.org
SUMMARY:Fall-o-ween Dance
DESCRIPTION:To register\, click here \n🍂Join us for a fun evening of dancing with festive fall and Halloween\ndecorations\, a photo booth\, and lots of grooving to the beats of a live\nDJ performance by DJ Ray! \nDATE: Saturday November 1st \nTIME:  5:00 – 7:00 pm \nNEW LOCATION: Le Jardin Academy\n917 Kalanianaʻole Hwy\, Kailua\, HI 96734 \n\nAGES: Teens and adults\, aged 13+
URL:https://spinhawaii.org/events/fall-o-ween-dance/
LOCATION:Le Jardin Academy\, 917 Kalanianaole Hwy\, Kailua\, HI\, 96734\, United States
ORGANIZER;CN="Hawaii Autism Foundation":MAILTO:director@hawaiiautismfoundation.org
END:VEVENT
END:VCALENDAR