BEGIN:VCALENDAR
VERSION:2.0
PRODID:-//Special Parent Information Network: Hawaii - ECPv6.13.2.1//NONSGML v1.0//EN
CALSCALE:GREGORIAN
METHOD:PUBLISH
X-ORIGINAL-URL:https://spinhawaii.org
X-WR-CALDESC:Events for Special Parent Information Network: Hawaii
REFRESH-INTERVAL;VALUE=DURATION:PT1H
X-Robots-Tag:noindex
X-PUBLISHED-TTL:PT1H
BEGIN:VTIMEZONE
TZID:Pacific/Honolulu
BEGIN:STANDARD
TZOFFSETFROM:-1000
TZOFFSETTO:-1000
TZNAME:HST
DTSTART:20250101T000000
END:STANDARD
END:VTIMEZONE
BEGIN:VEVENT
DTSTART;TZID=Pacific/Honolulu:20251208T090000
DTEND;TZID=Pacific/Honolulu:20251208T100000
DTSTAMP:20260423T035047
CREATED:20251128T210416Z
LAST-MODIFIED:20251128T210416Z
UID:8639-1765184400-1765188000@spinhawaii.org
SUMMARY:Parent Support Virtual Workshop
DESCRIPTION:For more info\, please contact Ohana Support Services at 808-681-1438\n*********************************************************************************\n\nOhana Support Services are offering FREE Virtual Nurturing Family Parent Support Groups in December.\n\nScan the QR code on the attached flyer\, or click the link below to Zoom on class day. No pre-registration is required.\n\nClass #1: \nEncouraging Growth: Teaching Keiki Values\, Morals & Family Boundaries with Respect\n\nSession #2 with Suzanne\nDate: Monday December 8\, 2025\nTime: 9:00 – 10:00 am\nZoom link: https://zoom.us/j/94343898498?pwd=piESgWM0yQDj9c6tEnv0aM5orrkQLn.1
URL:https://spinhawaii.org/events/parent-support-virtual-workshop-2/
LOCATION:Zoom
ORGANIZER;CN="Child & Family Service":MAILTO:rlsoon@cfs-hawaii.org
END:VEVENT
END:VCALENDAR