BEGIN:VCALENDAR
VERSION:2.0
PRODID:-//Special Parent Information Network: Hawaii - ECPv6.13.2.1//NONSGML v1.0//EN
CALSCALE:GREGORIAN
METHOD:PUBLISH
X-WR-CALNAME:Special Parent Information Network: Hawaii
X-ORIGINAL-URL:https://spinhawaii.org
X-WR-CALDESC:Events for Special Parent Information Network: Hawaii
REFRESH-INTERVAL;VALUE=DURATION:PT1H
X-Robots-Tag:noindex
X-PUBLISHED-TTL:PT1H
BEGIN:VTIMEZONE
TZID:Pacific/Honolulu
BEGIN:STANDARD
TZOFFSETFROM:-1000
TZOFFSETTO:-1000
TZNAME:HST
DTSTART:20260101T000000
END:STANDARD
END:VTIMEZONE
BEGIN:VEVENT
DTSTART;TZID=Pacific/Honolulu:20260204T080000
DTEND;TZID=Pacific/Honolulu:20260204T170000
DTSTAMP:20260422T233259
CREATED:20260204T181338Z
LAST-MODIFIED:20260204T181338Z
UID:8720-1770192000-1770224400@spinhawaii.org
SUMMARY:40th SPIN Conference!
DESCRIPTION:Join us for the 40th annual SPIN Conference “SPIN is 40 and Fabulous!” \nFind registration forms on our SPIN Conference website: https://spinconference.org/2026-spin-conference/ 
URL:https://spinhawaii.org/events/40th-spin-conference/
END:VEVENT
END:VCALENDAR