BEGIN:VCALENDAR
VERSION:2.0
PRODID:-//Special Parent Information Network: Hawaii - ECPv6.13.2.1//NONSGML v1.0//EN
CALSCALE:GREGORIAN
METHOD:PUBLISH
X-ORIGINAL-URL:https://spinhawaii.org
X-WR-CALDESC:Events for Special Parent Information Network: Hawaii
REFRESH-INTERVAL;VALUE=DURATION:PT1H
X-Robots-Tag:noindex
X-PUBLISHED-TTL:PT1H
BEGIN:VTIMEZONE
TZID:Pacific/Honolulu
BEGIN:STANDARD
TZOFFSETFROM:-1000
TZOFFSETTO:-1000
TZNAME:HST
DTSTART:20260101T000000
END:STANDARD
END:VTIMEZONE
BEGIN:VEVENT
DTSTART;TZID=Pacific/Honolulu:20260217T130000
DTEND;TZID=Pacific/Honolulu:20260217T140000
DTSTAMP:20260422T233253
CREATED:20260204T185458Z
LAST-MODIFIED:20260204T185458Z
UID:8735-1771333200-1771336800@spinhawaii.org
SUMMARY:Parenting Class
DESCRIPTION:Ohana Support Services\, a program of Child and Family Services\, is hosting Virtual Nurturing Families Parent Support Groups in February.\nFor more information and questions\, call 808-681-1438\n\n“Praising Your Keiki: Cultivating Positive Reinforcement & Encouragement” \n\nSession #1:\nDATE: Tuesday February 17\, 2026\nTIME: 1:00 – 2:00 pm\nWith: Char\nZoom link: https://zoom.us/j/91726065842?pwd=tbe6FYC7VqR21hklbKFSPreDga8MUv.1
URL:https://spinhawaii.org/events/parenting-class-3/
LOCATION:Zoom
ORGANIZER;CN="Child & Family Service":MAILTO:rlsoon@cfs-hawaii.org
END:VEVENT
END:VCALENDAR