BEGIN:VCALENDAR
VERSION:2.0
PRODID:-//Special Parent Information Network: Hawaii - ECPv6.13.2.1//NONSGML v1.0//EN
CALSCALE:GREGORIAN
METHOD:PUBLISH
X-ORIGINAL-URL:https://spinhawaii.org
X-WR-CALDESC:Events for Special Parent Information Network: Hawaii
REFRESH-INTERVAL;VALUE=DURATION:PT1H
X-Robots-Tag:noindex
X-PUBLISHED-TTL:PT1H
BEGIN:VTIMEZONE
TZID:Pacific/Honolulu
BEGIN:STANDARD
TZOFFSETFROM:-1000
TZOFFSETTO:-1000
TZNAME:HST
DTSTART:20260101T000000
END:STANDARD
END:VTIMEZONE
BEGIN:VEVENT
DTSTART;TZID=Pacific/Honolulu:20260225T090000
DTEND;TZID=Pacific/Honolulu:20260225T100000
DTSTAMP:20260422T233313
CREATED:20260204T185610Z
LAST-MODIFIED:20260204T185610Z
UID:8737-1772010000-1772013600@spinhawaii.org
SUMMARY:Parenting Class
DESCRIPTION:Ohana Support Services\, a program of Child and Family Services\, is hosting Virtual Nurturing Families Parent Support Groups in February.\nFor more information and questions\, call 808-681-1438\n\n“Praising Your Keiki: Cultivating Positive Reinforcement & Encouragement” \n\nSession #2:\nDATE: Wednesday February 25\, 2026\nTIME: 9:00 – 10:00 am\nWith Kawai\nZoom link: https://zoom.us/j/99195606605?pwd=tzgW4iTxsrktZkRhblNvp1MW6QxoVQ.1
URL:https://spinhawaii.org/events/parenting-class-4/
LOCATION:Zoom
ORGANIZER;CN="Child & Family Service":MAILTO:rlsoon@cfs-hawaii.org
END:VEVENT
END:VCALENDAR