BEGIN:VCALENDAR
VERSION:2.0
PRODID:-//Special Parent Information Network: Hawaii - ECPv6.13.2.1//NONSGML v1.0//EN
CALSCALE:GREGORIAN
METHOD:PUBLISH
X-ORIGINAL-URL:https://spinhawaii.org
X-WR-CALDESC:Events for Special Parent Information Network: Hawaii
REFRESH-INTERVAL;VALUE=DURATION:PT1H
X-Robots-Tag:noindex
X-PUBLISHED-TTL:PT1H
BEGIN:VTIMEZONE
TZID:Pacific/Honolulu
BEGIN:STANDARD
TZOFFSETFROM:-1000
TZOFFSETTO:-1000
TZNAME:HST
DTSTART:20260101T000000
END:STANDARD
END:VTIMEZONE
BEGIN:VEVENT
DTSTART;TZID=Pacific/Honolulu:20260227T180000
DTEND;TZID=Pacific/Honolulu:20260227T200000
DTSTAMP:20260422T233313
CREATED:20260128T185014Z
LAST-MODIFIED:20260128T185014Z
UID:8700-1772215200-1772222400@spinhawaii.org
SUMMARY:Central Oahu Parent Power Hour
DESCRIPTION:To register: https;//bit.ly/pph_26 \nCentral Oahu Parent Power Hour \nOur families are struggling! Our children are being left behind! We know raising keiki in Hawaii is hard. Now is the time to come together! It takes a village! Parents have the power to create change!! We want to hear from you! What’s working in  your community? What would you like to change? Let’s create a future where Hawaii is the best place to raise a keiki! \nAll welcome who live in Mililani\, Mililani Mauka\, Waipio Acres\, Launani Valley\, Wahiawa\, Whitmore Village – keiki\, ohana\, neighbors! Dinner will be provided. \nLeilehua High School Library
URL:https://spinhawaii.org/events/central-oahu-parent-power-hour/
END:VEVENT
END:VCALENDAR