BEGIN:VCALENDAR
VERSION:2.0
PRODID:-//Special Parent Information Network: Hawaii - ECPv6.13.2.1//NONSGML v1.0//EN
CALSCALE:GREGORIAN
METHOD:PUBLISH
X-WR-CALNAME:Special Parent Information Network: Hawaii
X-ORIGINAL-URL:https://spinhawaii.org
X-WR-CALDESC:Events for Special Parent Information Network: Hawaii
REFRESH-INTERVAL;VALUE=DURATION:PT1H
X-Robots-Tag:noindex
X-PUBLISHED-TTL:PT1H
BEGIN:VTIMEZONE
TZID:Pacific/Honolulu
BEGIN:STANDARD
TZOFFSETFROM:-1000
TZOFFSETTO:-1000
TZNAME:HST
DTSTART:20260101T000000
END:STANDARD
END:VTIMEZONE
BEGIN:VEVENT
DTSTART;TZID=Pacific/Honolulu:20260317T130000
DTEND;TZID=Pacific/Honolulu:20260317T140000
DTSTAMP:20260422T215955
CREATED:20260303T234052Z
LAST-MODIFIED:20260303T234052Z
UID:8756-1773752400-1773756000@spinhawaii.org
SUMMARY:Family Support with Child & Family Services
DESCRIPTION:Ohana Support Services\, a program of Child and Family Services\, invites you to join their virtual Nurturing Families Parent Support Groups in March.\nThe groups offered are voluntary\, intended for support and enrichment purposes.\n\nTo join\, scan the QR code on the flyer or click the Zoom link below.\n\nFor information and questions\, please call 808-681-1438\n\nTopic: Strength Within: Developing Self-Worth and Empowering Caregivers and Youth\n\nSession #1\nTuesday March 17\, 2026\n1:00 – 2:00 pm\nWith Char\nZoom Link: https://zoom.us/j/91726065842?pwd=tbe6FYC7VqR21hklbKFSPreDga8MUv.1\n\nSession #2\nWednesday March 25\, 2026\n9:00 – 10:00 am\nWith Kawai\nZoom Link: https://zoom.us/j/99195606605?pwd=tzgW4iTxsrktZkRhblNvp1MW6QxoVQ.1
URL:https://spinhawaii.org/events/family-support-with-child-family-services-3/
LOCATION:Zoom
ORGANIZER;CN="Child & Family Service":MAILTO:rlsoon@cfs-hawaii.org
END:VEVENT
END:VCALENDAR