BEGIN:VCALENDAR
VERSION:2.0
PRODID:-//Special Parent Information Network: Hawaii - ECPv6.13.2.1//NONSGML v1.0//EN
CALSCALE:GREGORIAN
METHOD:PUBLISH
X-ORIGINAL-URL:https://spinhawaii.org
X-WR-CALDESC:Events for Special Parent Information Network: Hawaii
REFRESH-INTERVAL;VALUE=DURATION:PT1H
X-Robots-Tag:noindex
X-PUBLISHED-TTL:PT1H
BEGIN:VTIMEZONE
TZID:Pacific/Honolulu
BEGIN:STANDARD
TZOFFSETFROM:-1000
TZOFFSETTO:-1000
TZNAME:HST
DTSTART:20260101T000000
END:STANDARD
END:VTIMEZONE
BEGIN:VEVENT
DTSTART;TZID=Pacific/Honolulu:20260428T173000
DTEND;TZID=Pacific/Honolulu:20260428T193000
DTSTAMP:20260422T202703
CREATED:20260415T175340Z
LAST-MODIFIED:20260415T175340Z
UID:8794-1777397400-1777404600@spinhawaii.org
SUMMARY:Kauai Autism Family Dining Night
DESCRIPTION:🧡 Kauai Autism Family Dining Night 🧡 \nWe’re so excited to invite our Autism community to a special evening of connection\, good food\, and togetherness. \n📍 Kalaheo Brick Oven Pizza\n📅 Tuesday\, April 28\, 2026\n⏰ 5:30 PM – 7:30 PM \n✨ Families can (at their own expense):\n• Order off the menu\n• Build your own pizza kits – $14 + tax\nIncludes:\n• White dough\n• Marinara sauce\n• Mozzarella cheese\n(Choose 2 toppings from a 4-topping selection)\n•Pepperoni\n•Mushrooms\n•Olives\n•Homemade Italian Sausage \n💛 This is a closed event\, created exclusively for our Autism community. \n📲 Please RSVP by Friday\, April 24\, 2026\, by 8:00 PM\n📞 (808) 346-2481\n📧 Bethevoiceautismkauai@outlook.com\nFacebook: https://www.facebook.com/groups/2371740533057729/about \nLet’s bring awareness to Autism and create a space where our families feel seen\, supported\, and celebrated. \nWe look forward to seeing you there!
URL:https://spinhawaii.org/events/kauai-autism-family-dining-night/
END:VEVENT
END:VCALENDAR