BEGIN:VCALENDAR
VERSION:2.0
PRODID:-//Special Parent Information Network: Hawaii - ECPv6.13.2.1//NONSGML v1.0//EN
CALSCALE:GREGORIAN
METHOD:PUBLISH
X-WR-CALNAME:Special Parent Information Network: Hawaii
X-ORIGINAL-URL:https://spinhawaii.org
X-WR-CALDESC:Events for Special Parent Information Network: Hawaii
REFRESH-INTERVAL;VALUE=DURATION:PT1H
X-Robots-Tag:noindex
X-PUBLISHED-TTL:PT1H
BEGIN:VTIMEZONE
TZID:Pacific/Honolulu
BEGIN:STANDARD
TZOFFSETFROM:-1000
TZOFFSETTO:-1000
TZNAME:HST
DTSTART:20260101T000000
END:STANDARD
END:VTIMEZONE
BEGIN:VEVENT
DTSTART;TZID=Pacific/Honolulu:20260318T170000
DTEND;TZID=Pacific/Honolulu:20260318T180000
DTSTAMP:20260423T002952
CREATED:20260303T235111Z
LAST-MODIFIED:20260303T235111Z
UID:8764-1773853200-1773856800@spinhawaii.org
SUMMARY:Parent Talk Cafe on Due Process
DESCRIPTION:Parent Talk Café \nA Learning Hub for Parents & Families \nTopic: Preparing for Due Process Pro Se \n(Pro Se is when parents file for due process without a lawyer)\nJasmine Williams will be our guest speaker\, a former LDAH employee\, a parent\, a grandmother of children \nWith disabilities and a lifelong advocate for people with disabilities\, She is known for her direct candor and passion for \nJustice and equity.  Her lived experience in advocacy\, State Complaints and Pro Se Due Process will give parents the information \nThey need to make informed decisions \nMarch 18\, 2026     Part 1 \nApril 15\,    2026     Part 2 \n5pm to 6pm \n@Parent Talk Café FB Private Group Follow us on Facebook @LDA Hawaii & Pacific PTI \n\nIf you are not a member of the Private Facebook Parent Talk Cafe page\, click on this link https://www.facebook.com/share/g/1HG7eDWy58/?mibextid=wwXIfr  and answer a few questions.  An administrator will admit you to the page.   On the day and time of the event\, go to the Parent Talk Cafe Page and you will see the live session.  You will be able to interact and ask questions through the comments under the live stream.
URL:https://spinhawaii.org/events/parent-talk-cafe-on-due-process/
LOCATION:Zoom
END:VEVENT
BEGIN:VEVENT
DTSTART;TZID=Pacific/Honolulu:20260325T090000
DTEND;TZID=Pacific/Honolulu:20260325T100000
DTSTAMP:20260423T002952
CREATED:20260303T234218Z
LAST-MODIFIED:20260303T234218Z
UID:8758-1774429200-1774432800@spinhawaii.org
SUMMARY:Family Support with Child and Family Services
DESCRIPTION:Ohana Support Services\, a program of Child and Family Services\, invites you to join their virtual Nurturing Families Parent Support Groups in March.\nThe groups offered are voluntary\, intended for support and enrichment purposes.\n\nTo join\, scan the QR code on the flyer or click the Zoom link below.\n\nFor information and questions\, please call 808-681-1438\n\nTopic: Strength Within: Developing Self-Worth and Empowering Caregivers and Youth\n\nSession #2\nWednesday March 25\, 2026\n9:00 – 10:00 am\nWith Kawai\nZoom Link: https://zoom.us/j/99195606605?pwd=tzgW4iTxsrktZkRhblNvp1MW6QxoVQ.1
URL:https://spinhawaii.org/events/family-support-with-child-and-family-services/
LOCATION:Zoom
ORGANIZER;CN="Child & Family Service":MAILTO:rlsoon@cfs-hawaii.org
END:VEVENT
BEGIN:VEVENT
DTSTART;TZID=Pacific/Honolulu:20260325T130000
DTEND;TZID=Pacific/Honolulu:20260325T180000
DTSTAMP:20260423T002952
CREATED:20260128T191449Z
LAST-MODIFIED:20260128T191449Z
UID:8709-1774443600-1774461600@spinhawaii.org
SUMMARY:Hilo Footsteps to Transition
DESCRIPTION:To register\, click here \nDATE: March 25\, 2026 \nTIME: 1:00 – 6:00 pm \nLOCATION: Arc of Hilo \nLight Dinner\, Giveaways\, iPads\, Gift Cards\, Network with Vendors \nIt’s never too early or late to start planning! Footsteps to Transition is a FREE event for students with disabilities and their families to help make a successful transition from high school to adult life and independence.  We hope you can join us for this AWESOME event! \nSchedule: \n1:00 – 4:00 pm: Open to network with vendors \n4:00 pm: Welcome \n4:10 – 5:00 pm: Speakers/Presentations \n5:00 pm: Program Guide and BIG GIVEAWAYS \n5:10 – 6:00 pm Open to network with vendors \nGiveaways are available throughout and between presentations. \nTo learn more about statewide transition resources\, visit: https://footstepstotransition.weebly.com/ or scan the QR code.
URL:https://spinhawaii.org/events/hilo-footsteps-to-transition/
LOCATION:ARC of Hilo\, 1099 Wainuenue Ave.\, Hilo\, Hawaii\, 96720
END:VEVENT
BEGIN:VEVENT
DTSTART;TZID=Pacific/Honolulu:20260328T080000
DTEND;TZID=Pacific/Honolulu:20260328T163000
DTSTAMP:20260423T002952
CREATED:20260204T181928Z
LAST-MODIFIED:20260204T181928Z
UID:8728-1774684800-1774715400@spinhawaii.org
SUMMARY:40th Annual SPIN Conference
DESCRIPTION:Join us for our 40th annual SPIN Conference “SPIN is 40 and Fabulous!” \nMore info and registration forms can be found here: https://spinconference.org/2026-spin-conference/
URL:https://spinhawaii.org/events/40th-annual-spin-conference/
LOCATION:UH Campus Center Ballroom
END:VEVENT
BEGIN:VEVENT
DTSTART;TZID=Pacific/Honolulu:20260415T170000
DTEND;TZID=Pacific/Honolulu:20260415T180000
DTSTAMP:20260423T002952
CREATED:20260303T235225Z
LAST-MODIFIED:20260303T235225Z
UID:8766-1776272400-1776276000@spinhawaii.org
SUMMARY:Parent Talk Cafe on Due Process
DESCRIPTION:Parent Talk Café \nA Learning Hub for Parents & Families \nTopic: Preparing for Due Process Pro Se \n(Pro Se is when parents file for due process without a lawyer)\nJasmine Williams will be our guest speaker\, a former LDAH employee\, a parent\, a grandmother of children \nWith disabilities and a lifelong advocate for people with disabilities\, She is known for her direct candor and passion for \nJustice and equity.  Her lived experience in advocacy\, State Complaints and Pro Se Due Process will give parents the information \nThey need to make informed decisions \nMarch 18\, 2026     Part 1 \nApril 15\,    2026     Part 2 \n5pm to 6pm \n@Parent Talk Café FB Private Group Follow us on Facebook @LDA Hawaii & Pacific PTI \n\nIf you are not a member of the Private Facebook Parent Talk Cafe page\, click on this link https://www.facebook.com/share/g/1HG7eDWy58/?mibextid=wwXIfr  and answer a few questions.  An administrator will admit you to the page.   On the day and time of the event\, go to the Parent Talk Cafe Page and you will see the live session.  You will be able to interact and ask questions through the comments under the live stream.
URL:https://spinhawaii.org/events/parent-talk-cafe-on-due-process-2/
LOCATION:Zoom
END:VEVENT
BEGIN:VEVENT
DTSTART;TZID=Pacific/Honolulu:20260422T170000
DTEND;TZID=Pacific/Honolulu:20260422T180000
DTSTAMP:20260423T002952
CREATED:20260408T190924Z
LAST-MODIFIED:20260408T190924Z
UID:8781-1776877200-1776880800@spinhawaii.org
SUMMARY:LDAH Learning Labs: IDEA & Chapter 60
DESCRIPTION:Please join LDAH – Leadership in Disabilities and Achievement Hawaii – for our Learning Labs.  Building Leaders in Parents creates a community of voices. Be part of the solution for your child receiving specially designed instruction under IDEA \n\nApril 22\, 2026 IDEA/Chapter 60: Individuals with Disabilities Education Act of 2004 and Hawaii’s Rules & Regulations affecting a free appropriate public education for students who are eligible.  It’s a Foundation.  When families understand the law\, they can confidently advocate\, collaborate with schools and gain knowledge\n\nWe highly recommend bringing your spirit of learning and engagement to our Learning Labs. \nTime: 5:00pm to 6:00pm \nLocation: Zoom Platform \n4 Ways to Register \n\nCall our office at 808-536-9684\nQR code on flyer\nRegister at our NEW Website events page https://www.ldahawaii.org/events.html\nNew LDAH App: From website\, scroll down to the very bottom and click on “Install Our App”.  We welcome feedback on our New LDAH App. \n\nLeadership in Disabilities & Achievement of Hawai’I (“LDAH”) is a 501(c)(3) non-profit organization founded in 1968 by parents of children with learning disabilities to provide educational advocacy\, training\, and support to promote public awareness\, remove barriers\, and provide full opportunities for these children.  Today\, LDAH serves parents and families of children with any type of disability.  Its primary purpose is to provide training\, counseling\, and advocacy services to help parents successfully navigate Hawaii’s special education system and obtain a free appropriate public education for their children as mandated by law. The goal of LDAH is to help families and schools to understand the IDEA and how to use it to benefit children with disabilities.  We serve families of children of all ages (birth to 26) and all disabilities (physical\, cognitive\, behavioral\, and emotional) by providing a variety of services including one-on-one support and assistance\, workshops\, publications\, and websites
URL:https://spinhawaii.org/events/ldah-learning-labs-idea-chapter-60/
LOCATION:Zoom
END:VEVENT
BEGIN:VEVENT
DTSTART;TZID=Pacific/Honolulu:20260428T173000
DTEND;TZID=Pacific/Honolulu:20260428T193000
DTSTAMP:20260423T002952
CREATED:20260415T175340Z
LAST-MODIFIED:20260415T175340Z
UID:8794-1777397400-1777404600@spinhawaii.org
SUMMARY:Kauai Autism Family Dining Night
DESCRIPTION:🧡 Kauai Autism Family Dining Night 🧡 \nWe’re so excited to invite our Autism community to a special evening of connection\, good food\, and togetherness. \n📍 Kalaheo Brick Oven Pizza\n📅 Tuesday\, April 28\, 2026\n⏰ 5:30 PM – 7:30 PM \n✨ Families can (at their own expense):\n• Order off the menu\n• Build your own pizza kits – $14 + tax\nIncludes:\n• White dough\n• Marinara sauce\n• Mozzarella cheese\n(Choose 2 toppings from a 4-topping selection)\n•Pepperoni\n•Mushrooms\n•Olives\n•Homemade Italian Sausage \n💛 This is a closed event\, created exclusively for our Autism community. \n📲 Please RSVP by Friday\, April 24\, 2026\, by 8:00 PM\n📞 (808) 346-2481\n📧 Bethevoiceautismkauai@outlook.com\nFacebook: https://www.facebook.com/groups/2371740533057729/about \nLet’s bring awareness to Autism and create a space where our families feel seen\, supported\, and celebrated. \nWe look forward to seeing you there!
URL:https://spinhawaii.org/events/kauai-autism-family-dining-night/
END:VEVENT
BEGIN:VEVENT
DTSTART;TZID=Pacific/Honolulu:20260501T083000
DTEND;TZID=Pacific/Honolulu:20260501T163000
DTSTAMP:20260423T002952
CREATED:20260421T220525Z
LAST-MODIFIED:20260421T220525Z
UID:8798-1777624200-1777653000@spinhawaii.org
SUMMARY:FREE Crucial Conversations Class
DESCRIPTION:Presented by the University of Hawaiʻi\, John A. Burns School of Medicine\, Maternal & Child\nHealth Leadership Education in Neurodevelopmental Disabilities (MCH LEND) Program\, in\npartnership with Crucial Learning.\n\nDo you support and advocate for children with disabilities and their family members in Hawaiʻi?\nIf so\, please join our FREE training opportunities to develop communication skills for building\,\nstrengthening\, and maintaining important relationships.\n \nTraining 1: Crucial Conversations for Mastering Dialogue [Displayed in a light blue box]\nDATE: Friday\, May 1\, 2026\nTIME:  8:30am to 4:30pm\nLOCATION:  UH West Oahu\, A225\n\n\nDevelop conversational and relational skills for handling difficult conversations at work and at home.\n\n\nIdeal for all people in all kinds of roles.\n\n\n\nTraining 2: Crucial Conversations for Accountability [Displayed in a light yellow box]\nDATE: Friday\, May 15\, 2026\nTIME:  8:30am to 4:30pm\nLOCATION: UH West Oahu\, A225\n\n\nDevelop conversational and relational skills for handling difficult conversations that involve holding people to commitments.\n\n\nIdeal for people in supervisory roles (parents of teenagers too!).\n\n\n\n\n\nHow to Register [Displayed in a green-bordered box alongside a QR code]\nVisit https://forms.gle/hnfnenCbb93u9mpF8  to save your spot.\nFor questions\, email: mchlend@hawaii.edu
URL:https://spinhawaii.org/events/free-crucial-conversations-class/
END:VEVENT
BEGIN:VEVENT
DTSTART;TZID=Pacific/Honolulu:20260506T170000
DTEND;TZID=Pacific/Honolulu:20260506T180000
DTSTAMP:20260423T002952
CREATED:20260408T191202Z
LAST-MODIFIED:20260408T191202Z
UID:8783-1778086800-1778090400@spinhawaii.org
SUMMARY:LDAH Learning Labs: Evaluations
DESCRIPTION:Please join LDAH – Leadership in Disabilities and Achievement Hawaii – for our Learning Labs.  Building Leaders in Parents creates a community of voices. Be part of the solution for your child receiving specially designed instruction under IDEA \n\nMay 6\, 2026   Understanding Evaluations: Having the right data to develop the IEP begins with the evaluation process.\nMay 13\, 2026  Developing the IEP: An Individualized Education Program needs to be developed\, reviewed\, and revised. Understand the steps to this process.\n\nWe highly recommend bringing your spirit of learning and engagement to our Learning Labs. \nTime: 5:00pm to 6:00pm \nLocation: Zoom Platform \n4 Ways to Register \n\nCall our office at 808-536-9684\nQR code on flyer\nRegister at our NEW Website events page https://www.ldahawaii.org/events.html\nNew LDAH App: From website\, scroll down to the very bottom and click on “Install Our App”.  We welcome feedback on our New LDAH App. \n\nLeadership in Disabilities & Achievement of Hawai’I (“LDAH”) is a 501(c)(3) non-profit organization founded in 1968 by parents of children with learning disabilities to provide educational advocacy\, training\, and support to promote public awareness\, remove barriers\, and provide full opportunities for these children.  Today\, LDAH serves parents and families of children with any type of disability.  Its primary purpose is to provide training\, counseling\, and advocacy services to help parents successfully navigate Hawaii’s special education system and obtain a free appropriate public education for their children as mandated by law. The goal of LDAH is to help families and schools to understand the IDEA and how to use it to benefit children with disabilities.  We serve families of children of all ages (birth to 26) and all disabilities (physical\, cognitive\, behavioral\, and emotional) by providing a variety of services including one-on-one support and assistance\, workshops\, publications\, and websites.
URL:https://spinhawaii.org/events/ldah-learning-labs-evaluations/
LOCATION:Zoom
END:VEVENT
BEGIN:VEVENT
DTSTART;TZID=Pacific/Honolulu:20260513T170000
DTEND;TZID=Pacific/Honolulu:20260513T180000
DTSTAMP:20260423T002952
CREATED:20260408T191334Z
LAST-MODIFIED:20260408T191334Z
UID:8785-1778691600-1778695200@spinhawaii.org
SUMMARY:LDAH Learning Labs: Developing the IEP
DESCRIPTION:Please join LDAH – Leadership in Disabilities and Achievement Hawaii – for our Learning Labs.  Building Leaders in Parents creates a community of voices. Be part of the solution for your child receiving specially designed instruction under IDEA \n\nMay 13\, 2026  Developing the IEP: An Individualized Education Program needs to be developed\, reviewed\, and revised. Understand the steps to this process.\n\nWe highly recommend bringing your spirit of learning and engagement to our Learning Labs. \nTime: 5:00pm to 6:00pm \nLocation: Zoom Platform \n4 Ways to Register \n\nCall our office at 808-536-9684\nQR code on flyer\nRegister at our NEW Website events page https://www.ldahawaii.org/events.html\nNew LDAH App: From website\, scroll down to the very bottom and click on “Install Our App”.  We welcome feedback on our New LDAH App. \n\nLeadership in Disabilities & Achievement of Hawai’I (“LDAH”) is a 501(c)(3) non-profit organization founded in 1968 by parents of children with learning disabilities to provide educational advocacy\, training\, and support to promote public awareness\, remove barriers\, and provide full opportunities for these children.  Today\, LDAH serves parents and families of children with any type of disability.  Its primary purpose is to provide training\, counseling\, and advocacy services to help parents successfully navigate Hawaii’s special education system and obtain a free appropriate public education for their children as mandated by law. The goal of LDAH is to help families and schools to understand the IDEA and how to use it to benefit children with disabilities.  We serve families of children of all ages (birth to 26) and all disabilities (physical\, cognitive\, behavioral\, and emotional) by providing a variety of services including one-on-one support and assistance\, workshops\, publications\, and websites.
URL:https://spinhawaii.org/events/ldah-learning-labs-developing-the-iep/
LOCATION:Zoom
END:VEVENT
BEGIN:VEVENT
DTSTART;TZID=Pacific/Honolulu:20260515T083000
DTEND;TZID=Pacific/Honolulu:20260515T163000
DTSTAMP:20260423T002952
CREATED:20260421T220631Z
LAST-MODIFIED:20260421T220631Z
UID:8800-1778833800-1778862600@spinhawaii.org
SUMMARY:FREE Crucial Conversations Class
DESCRIPTION:Presented by the University of Hawaiʻi\, John A. Burns School of Medicine\, Maternal & Child\nHealth Leadership Education in Neurodevelopmental Disabilities (MCH LEND) Program\, in\npartnership with Crucial Learning.\n\nDo you support and advocate for children with disabilities and their family members in Hawaiʻi?\nIf so\, please join our FREE training opportunities to develop communication skills for building\,\nstrengthening\, and maintaining important relationships.\n \n\nCrucial Conversations for Accountability [Displayed in a light yellow box]\nDATE: Friday\, May 15\, 2026\nTIME:  8:30am to 4:30pm\nLOCATION: UH West Oahu\, A225\n\n\nDevelop conversational and relational skills for handling difficult conversations that involve holding people to commitments.\n\n\nIdeal for people in supervisory roles (parents of teenagers too!).\n\n\n\n\n\nHow to Register [Displayed in a green-bordered box alongside a QR code]\nVisit https://forms.gle/hnfnenCbb93u9mpF8  to save your spot.\nFor questions\, email: mchlend@hawaii.edu
URL:https://spinhawaii.org/events/free-crucial-conversations-class-2/
END:VEVENT
END:VCALENDAR