BEGIN:VCALENDAR
VERSION:2.0
PRODID:-//Special Parent Information Network: Hawaii - ECPv6.13.2.1//NONSGML v1.0//EN
CALSCALE:GREGORIAN
METHOD:PUBLISH
X-WR-CALNAME:Special Parent Information Network: Hawaii
X-ORIGINAL-URL:https://spinhawaii.org
X-WR-CALDESC:Events for Special Parent Information Network: Hawaii
REFRESH-INTERVAL;VALUE=DURATION:PT1H
X-Robots-Tag:noindex
X-PUBLISHED-TTL:PT1H
BEGIN:VTIMEZONE
TZID:Pacific/Honolulu
BEGIN:STANDARD
TZOFFSETFROM:-1000
TZOFFSETTO:-1000
TZNAME:HST
DTSTART:20240101T000000
END:STANDARD
END:VTIMEZONE
BEGIN:VEVENT
DTSTART;TZID=Pacific/Honolulu:20240821T080000
DTEND;TZID=Pacific/Honolulu:20240821T090000
DTSTAMP:20260425T181412
CREATED:20240807T191804Z
LAST-MODIFIED:20240807T191804Z
UID:7921-1724227200-1724230800@spinhawaii.org
SUMMARY:ABLE Accounts Webinar
DESCRIPTION:To Register\, click here \n8:00 am Hawaii Time – this is a FREE event!
URL:https://spinhawaii.org/events/able-accounts-webinar/
LOCATION:On Your Computer
END:VEVENT
BEGIN:VEVENT
DTSTART;TZID=Pacific/Honolulu:20240819T180000
DTEND;TZID=Pacific/Honolulu:20240819T193000
DTSTAMP:20260425T181412
CREATED:20240810T010010Z
LAST-MODIFIED:20240810T010010Z
UID:7934-1724090400-1724095800@spinhawaii.org
SUMMARY:Hoomana Parent Support Mtg
DESCRIPTION:In case you are new to Ho’omana\, we are a parent led\, parent run support group for families. We are designed to support parents with a child on the Autism Spectrum in the Windward District of Oahu. Beyond that\, we provide relevant information and resources to families of children with intellectual and developmental disabilities wherever you reside in the state.\nLearn more about us on our Ho’omana Website HERE.\n\nOur family support meetings will be held on Monday evenings. This meeting is accessible via zoom from the comfort of your own surroundings. This year we will have community meet ups at group suggested locations. Get connected with us and enjoy a great year\, exploring the community\, meeting families of children with disabilities and attending family forward events.\n\nSo please join us for our first meeting of the new school year!\nMonday\, August 19\, at 6pm-7:30. CORRECTED TO 8/19\nRemember to RSVP HERE today and we will send the link the day of the meeting.\n\nTalk Story Session:\n\n\n\n\n\n\nThe new school year is a few weeks in\, how is it going? \n\n\n\n\n\n\n\n\nLearn from others how to navigate new schedules and environments. \n\n\n\n\n\n\n\n2024 Hoomana Group Support Meetings \n\n\n\n\n\nMark your calendars!\nIf these days do not work well for you\, be sure to attend this month where we will discuss what works best for most families.\n\n\n\n\n\n\nSeptember 2023 \n\n\n\n\n\nFirst Monday 9/2/24\n\n\n\n\n\nOctober 2023\n\n\n\n\n\n\n\nFirst Monday 10/07/24\n\n\n\n\n\n\n\nNovember 2023\n\n\n\n\n\n\n\nFirst Monday 11/4/24\n\n\n\n\n\n\n\nDecember 2023\n\n\n\n\n\n\n\nFirst Monday 12/2/24\n\n\n\n\n\n\n\n\nWe look forward to seeing all of you and also to meeting new families who may be coming for the first time!
URL:https://spinhawaii.org/events/hoomana-parent-support-mtg/
LOCATION:On Your Computer
ORGANIZER;CN="Hoomana Parents Supporting Parents":MAILTO:hoomanagroup@gmail.com
END:VEVENT
BEGIN:VEVENT
DTSTART;TZID=Pacific/Honolulu:20240817T130000
DTEND;TZID=Pacific/Honolulu:20240817T143000
DTSTAMP:20260425T181412
CREATED:20240814T212759Z
LAST-MODIFIED:20240814T213249Z
UID:7943-1723899600-1723905000@spinhawaii.org
SUMMARY:All About Me: A One Pager About Your Child Workshop
DESCRIPTION:Click here to register for the All About Me workshop \nClick here to fill out the intake form for CSC  \n\nDate: Saturday\, August 17\, 2024\nTime: 1 pm – 2:30 pm (1.5 hrs at CSC\, or 1 hr on Zoom)\nWhere: In person at the CSC office or virtually on Zoom\n1953 S. Beretania St\, Ste 5A\, Honolulu\, HI 96826\n\nLearn how to create a personalized one-page profile for your child to share with classroom staff and new caregivers. This workshop will be led by Brooke Barnhill\, who will guide you through the process\, and you’ll hear from Meriah Nichols\, a mother who has successfully used a one-page profile to support her child.\n\nFill out templates for your child’s profile during the workshop. Be sure to have a digital photo of your child ready!\nDon’t miss this opportunity to empower your child’s support network!
URL:https://spinhawaii.org/events/all-about-me-a-one-pager-about-your-child-workshop/
LOCATION:Comprehensive Services Center\, 1953 Beretania Strette\, Honolulu\, HI\, 96826\, United States
ORGANIZER;CN="Comprehensive Services Center":MAILTO:admin@csc-hawaii.org
END:VEVENT
BEGIN:VEVENT
DTSTART;TZID=Pacific/Honolulu:20240812T080000
DTEND;TZID=Pacific/Honolulu:20240812T090000
DTSTAMP:20260425T181412
CREATED:20240807T191320Z
LAST-MODIFIED:20240807T191538Z
UID:7916-1723449600-1723453200@spinhawaii.org
SUMMARY:ABLE Accounts 101 Webinar
DESCRIPTION:To register\, click here \n8:00 am Hawaiian Time – this event is FREE!
URL:https://spinhawaii.org/events/7916/
LOCATION:On Your Computer
END:VEVENT
BEGIN:VEVENT
DTSTART;TZID=Pacific/Honolulu:20240810T083000
DTEND;TZID=Pacific/Honolulu:20240810T123000
DTSTAMP:20260425T181412
CREATED:20240725T184239Z
LAST-MODIFIED:20240725T184318Z
UID:7831-1723278600-1723293000@spinhawaii.org
SUMMARY:Talk Story: Sensory Differences & Disability
DESCRIPTION:To register\, click here
URL:https://spinhawaii.org/events/7831/
LOCATION:Kealakehe Elementary School\, 74-5118 Kealakaa St.\, Kailua-Kona\, HI\, 96740\, United States
END:VEVENT
BEGIN:VEVENT
DTSTART;TZID=Pacific/Honolulu:20240803T093000
DTEND;TZID=Pacific/Honolulu:20240803T133000
DTSTAMP:20260425T181412
CREATED:20240725T190041Z
LAST-MODIFIED:20240725T190847Z
UID:7836-1722677400-1722691800@spinhawaii.org
SUMMARY:AccesSurf Day at the Beach: Kualoa Park
DESCRIPTION:To register\, click here \n\nRegistration is OPEN for Kualoa Day at the Beach on August 3rd!\n\n\nThis is our annual flat water day where you can enjoy a ride on a canoe\, kayak\, stand up paddle\, swim\, or just hang around! Come down and join the fun in a very special place. We will also be selling merch so this is a great chance to stock up on fresh back to school gear!
URL:https://spinhawaii.org/events/accessurf-day-at-the-beach-kualoa-park/
LOCATION:Kualoa Regional Beach Park\, 49-479 Kamehameha Hwy.\, Kaneohe\, HI\, 96744\, United States
ORGANIZER;CN="AccesSurf":MAILTO:Info@AccesSurf.org
END:VEVENT
BEGIN:VEVENT
DTSTART;TZID=Pacific/Honolulu:20240728T083000
DTEND;TZID=Pacific/Honolulu:20240728T100000
DTSTAMP:20260425T181412
CREATED:20240725T190809Z
LAST-MODIFIED:20240725T190809Z
UID:7839-1722155400-1722160800@spinhawaii.org
SUMMARY:Maui: Fun Factory with the Autism Society of Hawaii
DESCRIPTION:To register\, click here \n\n\n\n\n\n\n\n\n\n\n\n\nInformation\n\nJoin us for a sensory friendly Fun Factory morning! \nFun Factory will open 2 hours prior to general public opening\, allowing our Autism ‘Ohana the opportunity to be themselves and enjoy a couple hours of game play! \nFree for individuals on the spectrum\, $5 for all others. \nFor questions please contact Shelby at: Shelbym@autismsocietyhi.org OR (808)342-0364 \n\n\n\nLocation\n70 East Kaahumanu Ave.\nUnit A-13\nKahului\, HI 96732 US
URL:https://spinhawaii.org/events/maui-fun-factory-with-the-autism-society-of-hawaii/
ORGANIZER;CN="Autism Society of Hawaii":MAILTO:autismhi@gmail.com
END:VEVENT
BEGIN:VEVENT
DTSTART;TZID=Pacific/Honolulu:20240724T180000
DTEND;TZID=Pacific/Honolulu:20240724T190000
DTSTAMP:20260425T181412
CREATED:20240704T002002Z
LAST-MODIFIED:20240704T002002Z
UID:7807-1721844000-1721847600@spinhawaii.org
SUMMARY:TACA Coffee Talk
DESCRIPTION:To register\, click here \n\n TACA Hawaii Coffee Talk – Back to School Tips\n\n\nDate: Wednesday\, July 24\, 2024\nTime: 6:00pm – 7:00pm\n\n\nDown to Earth Pearlridge (upstairs)\n98-211 Pali Momi St.\nAiea\, HI 96701\n\n\nBack to school is an exciting time of year but for families living with autism it’s also a challenge. TACA is here to help! Whether you have questions about your child’s IEP\, need tips for packing GFCF lunches or you want to brainstorm strategies for a positive school year this Coffee Talk is for you! Meet other parents on the autism journey\, learn from their struggles as well as their successes to make this a year of growth for your child. An RSVP is required to attend this event.
URL:https://spinhawaii.org/events/taca-coffee-talk-6/
ORGANIZER;CN="TACA Hawaii":MAILTO:kiele.pennington@tacanow.org
END:VEVENT
BEGIN:VEVENT
DTSTART;TZID=Pacific/Honolulu:20240721T100000
DTEND;TZID=Pacific/Honolulu:20240721T140000
DTSTAMP:20260425T181412
CREATED:20240614T220253Z
LAST-MODIFIED:20240619T204728Z
UID:7765-1721556000-1721570400@spinhawaii.org
SUMMARY:Kona Sensory Festival
DESCRIPTION:An event sponsored by the Autism Moms of Kona \n \n 
URL:https://spinhawaii.org/events/kona-sensory-festival/
LOCATION:Kuleana Academy\, 74-4820 Mamalahoa Hwy\, Holualoa\, HI\, 96725\, United States
ORGANIZER;CN="Autism Moms of Kona":MAILTO:jessica.c.thatcher@gmail.com
END:VEVENT
BEGIN:VEVENT
DTSTART;TZID=Pacific/Honolulu:20240717T180000
DTEND;TZID=Pacific/Honolulu:20240717T190000
DTSTAMP:20260425T181412
CREATED:20240709T011812Z
LAST-MODIFIED:20240709T011812Z
UID:7814-1721239200-1721242800@spinhawaii.org
SUMMARY:Parent Talk Cafe
DESCRIPTION:To register\, click here
URL:https://spinhawaii.org/events/parent-talk-cafe-3/
LOCATION:On Your Computer
END:VEVENT
BEGIN:VEVENT
DTSTART;VALUE=DATE:20240716
DTEND;VALUE=DATE:20240720
DTSTAMP:20260425T181412
CREATED:20240614T193449Z
LAST-MODIFIED:20240614T193449Z
UID:7740-1721088000-1721433599@spinhawaii.org
SUMMARY:FREE Behavior Conference - Open to All!
DESCRIPTION:To register\, click here \nTo kick off the 2024-2025 school year\, the Hawaii State Department of Education\, Office of Student Support Services\, is hosting “Ka Ulana ʻAna i ka Piko:  In Weaving\, You Begin at the Center\,” a professional development opportunity focused on promoting positive student behavior and well-being. The conference and post-conference workshops will be held in person. \nDates\nTuesday\, July 16 & Wednesday\, July 17 (Main Conference Sessions). \nThursday\, July 18 & Friday\, July 19 (Post-Conference Workshops) \nTime \n8:00 a.m. to 3:00 p.m. (registration check-in opens at 7am) \nLocation \nHawaii Convention Center \nStudent behavior and well-being are the results of interconnected factors that include systems for supporting teachers and staff\, school and classroom environments\, classroom rules and expectations\, behavior management practices\, curricular/instructional interventions\, and their unique learning histories\, strengths and needs\, family support systems\, and cultural backgrounds. \nTo embody the conference theme\, “Ka Ulana ʻAna i ka Piko: In Weaving\, You Begin at the Center\,” conference participants will gain knowledge and resources about how to weave environmental factors together to help students develop and maintain appropriate behaviors\, feel safe and supported in school\, enjoy learning\, and live up to their full potential. Participants will also gain a better understanding of how students may engage in challenging behavior as the result of their individual circumstances rather than inherent character flaws\, promoting a more compassionate and restorative approach to responding to challenging behaviors that build positive relationships and lead to improved outcomes for all. The post-conference workshops will provide in-depth learning experiences on more specific behavior-related topics. \nSession topics will include the Hawaii Multi-Tiered System of Support\, Positive Behavior Interventions and Support\, Applied Behavior Analysis\, mental health\, restorative practices/justice\, etc. Our keynote speakers include Dr. Gregory Hanley\, Dr. Pat Friman\, and Warden Mark Patterson. Everyone is invited to attend and share with your networks. Please register at https://2024behaviorconference.sched.com/. Registration closes on June 28\, 2024.  \nYou may contact Joshua Hoppe at Joshua.Hoppe@k12.hi.us with any questions. Mahalo! 
URL:https://spinhawaii.org/events/free-behavior-conference-open-to-all/
LOCATION:Hawaii Convention Center\, 1801 Kalakaua Ave.\, Honolulu\, HI\, 96822\, United States
ORGANIZER;CN="DOE OCISS":MAILTO:special_ed_compaints@notes.k12.hi.us
END:VEVENT
BEGIN:VEVENT
DTSTART;TZID=Pacific/Honolulu:20240714T100000
DTEND;TZID=Pacific/Honolulu:20240714T140000
DTSTAMP:20260425T181412
CREATED:20240614T195438Z
LAST-MODIFIED:20240614T195438Z
UID:7751-1720951200-1720965600@spinhawaii.org
SUMMARY:Hilo Autism Resource Fair & Ohana Day
DESCRIPTION:For more info\, click here \nSunday July 14\, 2024 \n10:00 – 2:00 \nWaiola Park in Hilo
URL:https://spinhawaii.org/events/hilo-autism-resource-fair-ohana-day/
LOCATION:Waiola Park Hilo\, 799 Piilani St.\, Hilo\, HI\, 96720\, United States
ORGANIZER;CN="Autism Society of Hawaii":MAILTO:autismhi@gmail.com
END:VEVENT
BEGIN:VEVENT
DTSTART;TZID=Pacific/Honolulu:20240713T100000
DTEND;TZID=Pacific/Honolulu:20240713T130000
DTSTAMP:20260425T181412
CREATED:20240704T004731Z
LAST-MODIFIED:20240704T004731Z
UID:7810-1720864800-1720875600@spinhawaii.org
SUMMARY:LDAH IDEA Training
DESCRIPTION:To register\, click here
URL:https://spinhawaii.org/events/ldah-idea-training-2/
LOCATION:Leadership in Disabilities and Achievement of Hawaii\, 245 N. Kukui Street\, Honolulu\, HI\, 96817\, United States
END:VEVENT
BEGIN:VEVENT
DTSTART;TZID=Pacific/Honolulu:20240713T100000
DTEND;TZID=Pacific/Honolulu:20240713T130000
DTSTAMP:20260425T181412
CREATED:20240614T214639Z
LAST-MODIFIED:20240614T214639Z
UID:7762-1720864800-1720875600@spinhawaii.org
SUMMARY:IDEA Training with LDAH
DESCRIPTION:To register\, call LDAH at 808-536-9684
URL:https://spinhawaii.org/events/idea-training-with-ldah/
LOCATION:Leadership in Disabilities and Achievement of Hawaii\, 245 N. Kukui Street\, Honolulu\, HI\, 96817\, United States
END:VEVENT
BEGIN:VEVENT
DTSTART;TZID=Pacific/Honolulu:20240706T123000
DTEND;TZID=Pacific/Honolulu:20240706T143000
DTSTAMP:20260425T181412
CREATED:20240703T183154Z
LAST-MODIFIED:20240703T183154Z
UID:7805-1720269000-1720276200@spinhawaii.org
SUMMARY:Sensory Movie: Despicable Me 4
DESCRIPTION:To register\, click here \nJoin us while we lower the lights and sound for the perfect sensory sensitive movie experience for our special needs keiki.
URL:https://spinhawaii.org/events/sensory-movie-despicable-me-4/
LOCATION:Mililani Consolidated Theaters\, 95-1249 Meheula Parkway Suite 173\, Mililani\, HI\, 96789\, United States
ORGANIZER;CN="Never Quit Dreaming":MAILTO:neverquitdreaming@gmail.com
END:VEVENT
BEGIN:VEVENT
DTSTART;TZID=Pacific/Honolulu:20240704T180000
DTEND;TZID=Pacific/Honolulu:20240704T200000
DTSTAMP:20260425T181412
CREATED:20240703T182751Z
LAST-MODIFIED:20240703T182751Z
UID:7801-1720116000-1720123200@spinhawaii.org
SUMMARY:Elf Jr. Sensory Show
DESCRIPTION:To register\, click here \nKids can sing\, dance\, roam the theater\, and swap seats as they enjoy the final dress rehearsal before the big opening.  Experience the magic of “Papa Hawaii” in a relaxed and inclusive environment.
URL:https://spinhawaii.org/events/elf-jr-sensory-show/
LOCATION:Hawaii Theater\, 1130 Bethel Street\, Honolulu\, HI\, 96814\, United States
ORGANIZER;CN="Never Quit Dreaming":MAILTO:neverquitdreaming@gmail.com
END:VEVENT
BEGIN:VEVENT
DTSTART;TZID=Pacific/Honolulu:20240630T130000
DTEND;TZID=Pacific/Honolulu:20240630T160000
DTSTAMP:20260425T181412
CREATED:20240614T213611Z
LAST-MODIFIED:20240614T213611Z
UID:7757-1719752400-1719763200@spinhawaii.org
SUMMARY:Teen Gaming Group Online
DESCRIPTION:To register\, click here \nNext Session: June 30 \n1:00 – 4:00 pm
URL:https://spinhawaii.org/events/teen-gaming-group-online/
LOCATION:On Your Computer
ORGANIZER;CN="Autism Society of Hawaii":MAILTO:autismhi@gmail.com
END:VEVENT
BEGIN:VEVENT
DTSTART;TZID=Pacific/Honolulu:20240630T100000
DTEND;TZID=Pacific/Honolulu:20240630T140000
DTSTAMP:20260425T181412
CREATED:20240614T195834Z
LAST-MODIFIED:20240614T195834Z
UID:7754-1719741600-1719756000@spinhawaii.org
SUMMARY:Maui Autism Resource Fair
DESCRIPTION:For more information\, click here \nJune 30\, 2024 \n10:00 – 2:00 \nMalama Pono Autism Clinic \n 
URL:https://spinhawaii.org/events/maui-autism-resource-fair/
LOCATION:Malama Pono Maui Clinic\, 41 E Lipoa Street Unit 29\, Kihei\, HI\, 96753\, United States
ORGANIZER;CN="Autism Society of Hawaii":MAILTO:autismhi@gmail.com
END:VEVENT
BEGIN:VEVENT
DTSTART;TZID=Pacific/Honolulu:20240629T083000
DTEND;TZID=Pacific/Honolulu:20240629T233000
DTSTAMP:20260425T181412
CREATED:20240429T174325Z
LAST-MODIFIED:20240429T174325Z
UID:7714-1719649800-1719703800@spinhawaii.org
SUMMARY:Hilo: Talk Story: Sensory
DESCRIPTION:To register\, click here
URL:https://spinhawaii.org/events/hilo-talk-story-sensory/
LOCATION:Waiakea High School\, 155 West Kawili St\, Hilo\, HI\, 96720\, United States
END:VEVENT
BEGIN:VEVENT
DTSTART;TZID=Pacific/Honolulu:20240622T093000
DTEND;TZID=Pacific/Honolulu:20240622T113000
DTSTAMP:20260425T181412
CREATED:20240614T195041Z
LAST-MODIFIED:20240614T195041Z
UID:7745-1719048600-1719055800@spinhawaii.org
SUMMARY:Sensory Film: Inside Out
DESCRIPTION:To register\, click here \nSaturday June 22 @ 9:30 am \nKahala Consolodated Theaters \nKeiki with Autism FREE \nAdults must attend with children $17.50 per ticket \nfor more info: https://www.autismsocietyhi.org/
URL:https://spinhawaii.org/events/sensory-film-inside-out/
LOCATION:Kahala Mall\, 4211 Waialae Ave.\, Honolulu\, HI\, 96816\, United States
ORGANIZER;CN="Autism Society of Hawaii":MAILTO:autismhi@gmail.com
END:VEVENT
BEGIN:VEVENT
DTSTART;TZID=Pacific/Honolulu:20240622T090000
DTEND;TZID=Pacific/Honolulu:20240622T140000
DTSTAMP:20260425T181412
CREATED:20240603T182647Z
LAST-MODIFIED:20240603T182647Z
UID:7733-1719046800-1719064800@spinhawaii.org
SUMMARY:CCCOhana Mapping
DESCRIPTION:Please RSVP to Willie Cadena.  Click here to RSVP.
URL:https://spinhawaii.org/events/cccohana-mapping/
END:VEVENT
BEGIN:VEVENT
DTSTART;TZID=Pacific/Honolulu:20240619T180000
DTEND;TZID=Pacific/Honolulu:20240619T190000
DTSTAMP:20260425T181412
CREATED:20240614T214228Z
LAST-MODIFIED:20240614T214228Z
UID:7759-1718820000-1718823600@spinhawaii.org
SUMMARY:Parent Talk Cafe with LDAH
DESCRIPTION:To register for a Zoom link\, call LDAH at 808-536-9684 \n \n 
URL:https://spinhawaii.org/events/parent-talk-cafe-with-ldah/
LOCATION:On Your Computer
END:VEVENT
BEGIN:VEVENT
DTSTART;TZID=Pacific/Honolulu:20240618T073000
DTEND;TZID=Pacific/Honolulu:20240618T090000
DTSTAMP:20260425T181412
CREATED:20240614T184111Z
LAST-MODIFIED:20240614T184111Z
UID:7737-1718695800-1718701200@spinhawaii.org
SUMMARY:FREE White House Webinar Celebrating the Olmstead Act
DESCRIPTION:To register for this FREE event\, click here \nWhat is the Olmstead Act?\nA 1999 US Supreme Court decision giving people with disabilities the right to live in the community and receive services\, instead of being in institutions. That nobody should be forcibly removed from society and they should be able to make decisions for themselves.\nWatch a short video here \nThis Tuesday\, 18 June 2024\, NACDD (National Association of Councils for Developmental Disabilities) and State DD Councils will play an integral role in The White House’s 25th Anniversary Olmstead Act celebration.  A dozen DD Councils will be represented at the event in-person\, and three council members will be speakers. NACDD will be there to represent all of the Councils. And\, most importantly\, people with IDD are centered at the event – holding six of the 11 speaking elements of the event. \nThis celebration will be open for the public to attend virtually. Our National Council has been working closely with the White House on the event. We ask that you all please get this out to your networks. We want as many people as possible to attend\, not only our DD council or disability circles. This is not about politics\, and it is not just for ‘people who do disability stuff’. Olmstead is all about community\, and we hope to get all sorts of members of the community to attend.  Real people will be talking about their real lives\, and we want everyone to understand what Olmstead is and means to us\, and – because having people with disabilities living in the community is good for the WHOLE community – we want people outside of disability circles to understand that Olmstead is good for them too. Please\, tell you family\, friends\, neighbors to attend this event. \nAgain\, it takes place this Tuesday\, 18 June at 7:45am Hawaii Time. \nIt would be wonderful for the White House to see that Hawaii\, the NACDD and the DD Councils can really turn out the folks! We want them to see that we can get people to show up for what matters to us. Please help us make this happen! \nYou MUST register for this White House event in order to attend virtually.
URL:https://spinhawaii.org/events/free-white-house-webinar-celebrating-the-olmstead-act/
LOCATION:On Your Computer
END:VEVENT
BEGIN:VEVENT
DTSTART;TZID=Pacific/Honolulu:20240615T090000
DTEND;TZID=Pacific/Honolulu:20240615T110000
DTSTAMP:20260425T181412
CREATED:20240508T195440Z
LAST-MODIFIED:20240508T195440Z
UID:7723-1718442000-1718449200@spinhawaii.org
SUMMARY:Kualoa Ranch Hike with NQD
DESCRIPTION:To register\, click here
URL:https://spinhawaii.org/events/kualoa-ranch-hike-with-nqd/
LOCATION:Kualoa Ranch\, 49-560 Kamehameha Hwy\,\, Kaneohe\, HI\, 96744\, United States
ORGANIZER;CN="Never Quit Dreaming":MAILTO:neverquitdreaming@gmail.com
END:VEVENT
BEGIN:VEVENT
DTSTART;TZID=Pacific/Honolulu:20240613T170000
DTEND;TZID=Pacific/Honolulu:20240613T190000
DTSTAMP:20260425T181412
CREATED:20240508T234315Z
LAST-MODIFIED:20240508T234315Z
UID:7726-1718298000-1718305200@spinhawaii.org
SUMMARY:UCP Parent/Caregiver Resource Pau Hana Series
DESCRIPTION: 
URL:https://spinhawaii.org/events/ucp-parent-caregiver-resource-pau-hana-series/
LOCATION:On Your Computer
ORGANIZER;CN="United Cerebral Palsy Hawaii":MAILTO:karen.glasser@unitedcerebralpalsyhawaii.org
END:VEVENT
BEGIN:VEVENT
DTSTART;TZID=Pacific/Honolulu:20240608T093000
DTEND;TZID=Pacific/Honolulu:20240608T133000
DTSTAMP:20260425T181412
CREATED:20240603T181253Z
LAST-MODIFIED:20240603T181253Z
UID:7730-1717839000-1717853400@spinhawaii.org
SUMMARY:AccesSurf Day at the Beach
DESCRIPTION:To register\, click here
URL:https://spinhawaii.org/events/accessurf-day-at-the-beach-10/
LOCATION:White Plains Beach\, Ewa Beach\, HI\, 96706\, United States
ORGANIZER;CN="AccesSurf":MAILTO:Info@AccesSurf.org
END:VEVENT
BEGIN:VEVENT
DTSTART;TZID=Pacific/Honolulu:20240608T090000
DTEND;TZID=Pacific/Honolulu:20240608T110000
DTSTAMP:20260425T181412
CREATED:20240508T193825Z
LAST-MODIFIED:20240508T193825Z
UID:7718-1717837200-1717844400@spinhawaii.org
SUMMARY:Special Olympics Young Athletes Program
DESCRIPTION:Download a Registration Form here \n \n 
URL:https://spinhawaii.org/events/special-olympics-young-athletes-program/
LOCATION:UH Manoa
ORGANIZER;CN="Special Olympics Hawaii":MAILTO:program@sohawaii.org
END:VEVENT
BEGIN:VEVENT
DTSTART;TZID=Pacific/Honolulu:20240606T080000
DTEND;TZID=Pacific/Honolulu:20240606T133000
DTSTAMP:20260425T181412
CREATED:20240426T194924Z
LAST-MODIFIED:20240426T194924Z
UID:7711-1717660800-1717680600@spinhawaii.org
SUMMARY:Read to Me Conference
DESCRIPTION:Register here \nIt’s that time of year again – Read To Me International Foundation’s Annual June Conference! Please mark your calendars\, save the date\, and share the free virtual Conference. The event is geared towards pre-k and elementary school educators\, parents/caregivers\, and non-profit organizations! Please feel free to share the flyer if you’d like to! \nSwag Bag: Each attendee* that participates throughout the whole Conference and completes the survey will receive a swag bag\, which includes a book chosen by each keynote\, a journal\, and resources. *Attendees must reside in the state of Hawaiʻi. \nRegister Today: Spaces and supplies are limited\, so please make sure you reserve your spot today by registering here: https://us02web.zoom.us/meeting/register/tZMtcemsqjorGtPsXazG644vr88VeLS2nnA2.  \nFeatured Keynote Speakers: This year\, we are featuring International Author Mem Fox and National Author Barney Saltzberg as our keynotes.  \nOther Speakers: Lieutenant Governor Sylvia Luke will kick off with a pre-recorded welcome. In addition\, we have Lauren Padesky\, HIDOE Office of Curriculum & Instructional Design\, and Stacie Kaneshige from the Hawaiʻi State Library as confirmed Concurrent Session Speakers.  \nDerek Kurisu from KTA Superstores will be reading a story during the Lunchtime Read Aloud segment.  \nWe will share more details on additional Concurrent Session Speakers by June 1st\, so stay tuned! \nZoom Links and Zoom Reminders: Please note that registration email reminders will come from no-reply@zoom.us and not from Read To Me International Foundation\, so please add no-reply@zoom.us to your contact list.
URL:https://spinhawaii.org/events/read-to-me-conference/
LOCATION:On Your Computer
END:VEVENT
BEGIN:VEVENT
DTSTART;TZID=Pacific/Honolulu:20240504T103000
DTEND;TZID=Pacific/Honolulu:20240504T143000
DTSTAMP:20260425T181412
CREATED:20240423T172919Z
LAST-MODIFIED:20240423T172919Z
UID:7708-1714818600-1714833000@spinhawaii.org
SUMMARY:Oahu: Special Needs Planning Seminar
DESCRIPTION:Link to Register – click here
URL:https://spinhawaii.org/events/oahu-special-needs-planning-seminar/
LOCATION:Neal S. Blaisdell Center\, 777 Ward Ave.\, Honolulu\, HI\, 96814\, United States
END:VEVENT
BEGIN:VEVENT
DTSTART;TZID=Pacific/Honolulu:20240422T170000
DTEND;TZID=Pacific/Honolulu:20240422T193000
DTSTAMP:20260425T181412
CREATED:20240412T172159Z
LAST-MODIFIED:20240412T173925Z
UID:7703-1713805200-1713814200@spinhawaii.org
SUMMARY:Hoomana Virtual Transition Night
DESCRIPTION:To RSVP\, click here
URL:https://spinhawaii.org/events/hoomana-virtual-transition-night/
LOCATION:On Your Computer
ORGANIZER;CN="Hoomana Parents Supporting Parents":MAILTO:hoomanagroup@gmail.com
END:VEVENT
END:VCALENDAR