BEGIN:VCALENDAR
VERSION:2.0
PRODID:-//Special Parent Information Network: Hawaii - ECPv6.13.2.1//NONSGML v1.0//EN
CALSCALE:GREGORIAN
METHOD:PUBLISH
X-WR-CALNAME:Special Parent Information Network: Hawaii
X-ORIGINAL-URL:https://spinhawaii.org
X-WR-CALDESC:Events for Special Parent Information Network: Hawaii
REFRESH-INTERVAL;VALUE=DURATION:PT1H
X-Robots-Tag:noindex
X-PUBLISHED-TTL:PT1H
BEGIN:VTIMEZONE
TZID:Pacific/Honolulu
BEGIN:STANDARD
TZOFFSETFROM:-1000
TZOFFSETTO:-1000
TZNAME:HST
DTSTART:20240101T000000
END:STANDARD
END:VTIMEZONE
BEGIN:VEVENT
DTSTART;TZID=Pacific/Honolulu:20241101T100000
DTEND;TZID=Pacific/Honolulu:20241101T143000
DTSTAMP:20260425T011250
CREATED:20240906T215740Z
LAST-MODIFIED:20240906T215740Z
UID:7997-1730455200-1730471400@spinhawaii.org
SUMMARY:Oral Health Training for Families of DD/ID
DESCRIPTION:The Hawaii Oral Health Coalition\, Hawaii Dental Service Foundation\, and the Department of Health have developed an oral health training program to address the specific needs of individuals with developmental and intellectual disabilities. \nThis FREE training is designed for caregivers\, non-dental providers\, and families who support those with developmental and intellectual disabilities of any age. \nThe training will take place on October 25th and November 1st\, 2024\, with two sessions offered on each day at the DOH DDD Waimano Hale facility. \nRefer to the attached training flyer for details. \nSeating is limited to 22 participants per session\, so early registration is recommended. \nRegister via: \nEmail: andrew.tseu@doh.hawaii.gov \nPhone: 808-832-5710 \nIf you have any questions\, feel free to contact Andrew Tseu. \nThank you\,\nAndrew \nANDREW TSEU\, DDS\, JD \nChief | Developmental Disabilities Division / Hospital & Community Dental Services Branch \nHawai’i State Department of Health | Ka ‘Oihana Olakino \n1700 Lanakila Ave.\, #203 | Honolulu\, HI 96817 \nOffice:  (808) 832-5715 | Fax: (808) 832-5722 \nandrew.tseu@doh.hawaii.gov \n \n \n  \n 
URL:https://spinhawaii.org/events/oral-health-training-for-families-of-dd-id-2/
LOCATION:Waimano Hale Campus\, 2201 Waimano Home Road\, Pearl City\, HI\, 96782\, United States
END:VEVENT
BEGIN:VEVENT
DTSTART;TZID=Pacific/Honolulu:20241102T110000
DTEND;TZID=Pacific/Honolulu:20241102T133000
DTSTAMP:20260425T011250
CREATED:20240917T220829Z
LAST-MODIFIED:20240917T220829Z
UID:8019-1730545200-1730554200@spinhawaii.org
SUMMARY:Lanai Traveling Mini Conference with LDAH
DESCRIPTION:To register\, click here
URL:https://spinhawaii.org/events/lanai-traveling-mini-conference-with-ldah/
END:VEVENT
BEGIN:VEVENT
DTSTART;TZID=Pacific/Honolulu:20241105T090000
DTEND;TZID=Pacific/Honolulu:20241105T130000
DTSTAMP:20260425T011250
CREATED:20241022T211620Z
LAST-MODIFIED:20241022T211620Z
UID:8079-1730797200-1730811600@spinhawaii.org
SUMMARY:Health Relationships Classes
DESCRIPTION:To register\, click here \nVisit the website here: https://hpp.koka.org/
URL:https://spinhawaii.org/events/health-relationships-classes/
LOCATION:On Your Computer
END:VEVENT
BEGIN:VEVENT
DTSTART;TZID=Pacific/Honolulu:20241106T090000
DTEND;TZID=Pacific/Honolulu:20241106T120000
DTSTAMP:20260425T011250
CREATED:20241022T212923Z
LAST-MODIFIED:20241022T212923Z
UID:8085-1730883600-1730894400@spinhawaii.org
SUMMARY:Equitable Access Symposium
DESCRIPTION:To register for in-person\, click here \nTo register for Facebook Live\, click here \nThis event is FREE but you must register! \n 
URL:https://spinhawaii.org/events/equitable-access-symposium/
LOCATION:Nelha Hale Iako\, 73-970 Makako Bay Dr.\, Kailua-Kona\, HI\, United States
ORGANIZER;CN="Autism Moms of Kona":MAILTO:jessica.c.thatcher@gmail.com
END:VEVENT
BEGIN:VEVENT
DTSTART;TZID=Pacific/Honolulu:20241109T100000
DTEND;TZID=Pacific/Honolulu:20241109T140000
DTSTAMP:20260425T011250
CREATED:20240917T221526Z
LAST-MODIFIED:20241031T013945Z
UID:8025-1731146400-1731160800@spinhawaii.org
SUMMARY:Oahu Traveling Mini Conference with LDAH
DESCRIPTION:To register\, click here
URL:https://spinhawaii.org/events/oahu-traveling-mini-conference-with-ldah/
LOCATION:Hawaii Tokai International College\, 91-971 Farrington Hwy.\, Kapolei\, HI\, 96707\, United States
END:VEVENT
BEGIN:VEVENT
DTSTART;TZID=Pacific/Honolulu:20241118T090000
DTEND;TZID=Pacific/Honolulu:20241118T100000
DTSTAMP:20260425T011250
CREATED:20241113T184630Z
LAST-MODIFIED:20241113T184630Z
UID:8108-1731920400-1731924000@spinhawaii.org
SUMMARY:ABLE Information Session on Zoom
DESCRIPTION:Click here to register \n9:00 am Hawaii Time \nWatch the webinar and ask questions about how ABLE accounts\, what they are and how they work.
URL:https://spinhawaii.org/events/able-information-session-on-zoom/
LOCATION:Zoom
END:VEVENT
BEGIN:VEVENT
DTSTART;TZID=Pacific/Honolulu:20241119T090000
DTEND;TZID=Pacific/Honolulu:20241119T133000
DTSTAMP:20260425T011250
CREATED:20241104T202415Z
LAST-MODIFIED:20241104T202415Z
UID:8100-1732006800-1732023000@spinhawaii.org
SUMMARY:Conflict Resolution Workshop
DESCRIPTION:To register\, click here \nConflict Resolution Flyer 11.19.24-1 \nThe Community Children’s Council Office (CCC) is offering a Free Workshop on The Art of Conflict Resolution and Finding Agreement. See attached flyer and information below to register for this free workshop. Parking and lunch included.\nThe Art of Conflict Resolution and Finding Agreement registration form\nDate: Tuesday\, November 19\, 2024\nTime: 9 am to 1:30 PM\nLocation: Japanese Cultural Center\, 2454 S. Beretania Street\nOur presenter will be Tracey S. Wiltgen\, Esq\, of the Mediation Center of the Pacific.\nHer bio is attached for your reference.\nFor more information on the Mediation Center of the Pacific\, click the link below.\nMediation Center of the Pacific
URL:https://spinhawaii.org/events/conflict-resolution-workshop/
LOCATION:Japanese Cultural Center\, 2454 S. Beretania St.\, Honolulu\, HI\, 96826\, United States
END:VEVENT
BEGIN:VEVENT
DTSTART;TZID=Pacific/Honolulu:20241119T160000
DTEND;TZID=Pacific/Honolulu:20241121T180000
DTSTAMP:20260425T011250
CREATED:20241022T212018Z
LAST-MODIFIED:20241022T212018Z
UID:8082-1732032000-1732212000@spinhawaii.org
SUMMARY:Healthy Relationships Workshop
DESCRIPTION:To register\, click here \nTo visit the website\, click here
URL:https://spinhawaii.org/events/healthy-relationships-workshop/
LOCATION:On Your Computer
END:VEVENT
BEGIN:VEVENT
DTSTART;TZID=Pacific/Honolulu:20241120T113000
DTEND;TZID=Pacific/Honolulu:20241120T123000
DTSTAMP:20260425T011250
CREATED:20241113T183702Z
LAST-MODIFIED:20241113T183702Z
UID:8104-1732102200-1732105800@spinhawaii.org
SUMMARY:Learning Disabilities Workshop
DESCRIPTION:To register\, click here \nWe would like to invite you to our November Speaker Session sponsored by the Inclusive Gifted Education Center at the Pacific Inclusive Research and Resources\nLet’s Talk About Learning Disabilities: Definitions and Manifestations\nWednesday\, November 20\n11:30 am – 12:30 pm (Hawaiian Standard Time)\non Zoom\nThis presentation aims to provide an overview of learning disabilities\, focusing on their definitions\, key characteristics\, and how they manifest in various educational and life settings. Attendees will gain a clearer understanding of the challenges faced by individuals with learning disabilities\, explore common misconceptions\, and learn about effective strategies for support and intervention.  Ideal for anyone interested in fostering an inclusive environment for all learners.\nThis month’s session will feature:\nDr. Kiriko Takahashi\, Interim Director\, Center on Disability Studies (CDS)\, University of Hawaiʻi at Mānoa. She is a learning disabilities specialist with over 20 years of experience working with children and adults across the lifespan. Her research interests are diverse and includes topics on transition of students with disabilities in the STEM pipeline\, culturally responsive curriculum and teaching\, inclusive education\, Universal Design for Learning\, and use of assistive technology. She is also the Director of the Pacific Basin University Center for Excellence and supports communities across the Pacific region.\nRegister to reserve your spot today!\nPlease feel free to share this email and attached flyer with anyone who would be interested in attending.\nFor more information about this session\, please contact Jerrik Feliciano at Jerrik@hawaii.edu\nWe hope to see you there!\n 
URL:https://spinhawaii.org/events/learning-disabilities-workshop/
LOCATION:Zoom
END:VEVENT
BEGIN:VEVENT
DTSTART;TZID=Pacific/Honolulu:20241123T100000
DTEND;TZID=Pacific/Honolulu:20241123T120000
DTSTAMP:20260425T011250
CREATED:20241114T175847Z
LAST-MODIFIED:20241114T175847Z
UID:8111-1732356000-1732363200@spinhawaii.org
SUMMARY:LDAH Training: Understanding Evaluations
DESCRIPTION:To register\, click here \nUnderstanding the Evaluation Process \nSaturday November 23\, 2024 \n10:00 am – 12:00 pm
URL:https://spinhawaii.org/events/ldah-training-understanding-evaluations/
LOCATION:Leadership in Disabilities and Achievement of Hawaii\, 245 N. Kukui Street\, Honolulu\, HI\, 96817\, United States
END:VEVENT
END:VCALENDAR