BEGIN:VCALENDAR
VERSION:2.0
PRODID:-//Special Parent Information Network: Hawaii - ECPv6.13.2.1//NONSGML v1.0//EN
CALSCALE:GREGORIAN
METHOD:PUBLISH
X-ORIGINAL-URL:https://spinhawaii.org
X-WR-CALDESC:Events for Special Parent Information Network: Hawaii
REFRESH-INTERVAL;VALUE=DURATION:PT1H
X-Robots-Tag:noindex
X-PUBLISHED-TTL:PT1H
BEGIN:VTIMEZONE
TZID:Pacific/Honolulu
BEGIN:STANDARD
TZOFFSETFROM:-1000
TZOFFSETTO:-1000
TZNAME:HST
DTSTART:20240101T000000
END:STANDARD
END:VTIMEZONE
BEGIN:VEVENT
DTSTART;TZID=Pacific/Honolulu:20241204T180000
DTEND;TZID=Pacific/Honolulu:20241204T190000
DTSTAMP:20260425T041652
CREATED:20241114T180132Z
LAST-MODIFIED:20241114T180132Z
UID:8113-1733335200-1733338800@spinhawaii.org
SUMMARY:LDAH Training: Review Evaluations with LDAH
DESCRIPTION:To register\, click here \nReview Evaluations with LDAH \nIn person training: 245 N. Kukui Street\, Honolulu \nWednesday December 4\, 2024 \n6:00 – 7:00 pm
URL:https://spinhawaii.org/events/ldah-training-review-evaluations-with-ldah/
LOCATION:Leadership in Disabilities and Achievement of Hawaii\, 245 N. Kukui Street\, Honolulu\, HI\, 96817\, United States
END:VEVENT
BEGIN:VEVENT
DTSTART;TZID=Pacific/Honolulu:20241207T093000
DTEND;TZID=Pacific/Honolulu:20241207T110000
DTSTAMP:20260425T041652
CREATED:20241024T232447Z
LAST-MODIFIED:20241024T232447Z
UID:8092-1733563800-1733569200@spinhawaii.org
SUMMARY:Special Olympics Makahiki Inclusion Event
DESCRIPTION:For more information\, email Nip Ho at program@sohawaii.org \nTo download a PDF of the flyer\, click here \nTo download a PDF of the Registration Form\, click here
URL:https://spinhawaii.org/events/special-olympics-makahiki-inclusion-event/
LOCATION:Special Olympics Hawaii Sports Complex\, 91-610 Maunakapu Street\, Ewa Beach\, HI\, 96706\, United States
ORGANIZER;CN="Special Olympics Hawaii":MAILTO:program@sohawaii.org
END:VEVENT
BEGIN:VEVENT
DTSTART;TZID=Pacific/Honolulu:20241212T100000
DTEND;TZID=Pacific/Honolulu:20241212T120000
DTSTAMP:20260425T041652
CREATED:20241125T230158Z
LAST-MODIFIED:20241125T230158Z
UID:8142-1733997600-1734004800@spinhawaii.org
SUMMARY:Deaf Santa
DESCRIPTION:“Deaf Santa and the Santa Experience”\nPlease join us to chat with Deaf Santa in ASL and watch his performers as they wish you the merriest of holidays.\nDATE: Thursday December 12\, 2024\nTIME: 10:00 am – 12:00 pm\nWHERE: Pearlridge Center in the former Inspiration Furniture Store\, below the movie theaters in Wai Makai (Downtown)\nCelebrating 32 Years at Pearlridge Center!\nHappy Holidays from all of at:\nPearlridge Center\, the ASL-related programs at Kapiolani Community College\, Hawaii Department of Education Office of Student Support Services\, Relay Hawaii\, the Comprehensive Services Center and Southwest Airlines.\nFor more information\, email Deaf Santa’s Coordinating Elves:\nJan Fried: jfreid@hawaii.edu\nCarole Duran: carol.duran@k12.hi.us
URL:https://spinhawaii.org/events/deaf-santa/
LOCATION:Pearlridge
END:VEVENT
BEGIN:VEVENT
DTSTART;TZID=Pacific/Honolulu:20241214T100000
DTEND;TZID=Pacific/Honolulu:20241214T120000
DTSTAMP:20260425T041652
CREATED:20241114T180339Z
LAST-MODIFIED:20241114T180339Z
UID:8115-1734170400-1734177600@spinhawaii.org
SUMMARY:LDAH Training: Organizing Your Documents
DESCRIPTION:To register\, click here \nOrganizing Your Documents\, in person training \nSaturday December 14\, 2024 \n10:00 am – 12:00 pm
URL:https://spinhawaii.org/events/ldah-training-organizing-your-documents-2/
LOCATION:Leadership in Disabilities and Achievement of Hawaii\, 245 N. Kukui Street\, Honolulu\, HI\, 96817\, United States
END:VEVENT
BEGIN:VEVENT
DTSTART;TZID=Pacific/Honolulu:20241218T180000
DTEND;TZID=Pacific/Honolulu:20241218T190000
DTSTAMP:20260425T041652
CREATED:20241114T180551Z
LAST-MODIFIED:20241114T180551Z
UID:8117-1734544800-1734548400@spinhawaii.org
SUMMARY:LDAH Training: Preparing for the IEP
DESCRIPTION:To register\, click here \nIn person Training \nPreparing for the Individualized Education Program (IEP) Meeting \nWednesday December 18\, 2024 \n6:00 – 7:00 pm
URL:https://spinhawaii.org/events/ldah-training-preparing-for-the-iep/
LOCATION:Leadership in Disabilities and Achievement of Hawaii\, 245 N. Kukui Street\, Honolulu\, HI\, 96817\, United States
END:VEVENT
END:VCALENDAR