BEGIN:VCALENDAR
VERSION:2.0
PRODID:-//Special Parent Information Network: Hawaii - ECPv6.13.2.1//NONSGML v1.0//EN
CALSCALE:GREGORIAN
METHOD:PUBLISH
X-ORIGINAL-URL:https://spinhawaii.org
X-WR-CALDESC:Events for Special Parent Information Network: Hawaii
REFRESH-INTERVAL;VALUE=DURATION:PT1H
X-Robots-Tag:noindex
X-PUBLISHED-TTL:PT1H
BEGIN:VTIMEZONE
TZID:Pacific/Honolulu
BEGIN:STANDARD
TZOFFSETFROM:-1000
TZOFFSETTO:-1000
TZNAME:HST
DTSTART:20250101T000000
END:STANDARD
END:VTIMEZONE
BEGIN:VEVENT
DTSTART;TZID=Pacific/Honolulu:20250507T170000
DTEND;TZID=Pacific/Honolulu:20250507T180000
DTSTAMP:20260424T145504
CREATED:20250402T201622Z
LAST-MODIFIED:20250402T201622Z
UID:8277-1746637200-1746640800@spinhawaii.org
SUMMARY:LDAH Learning Lab: Letter Writing
DESCRIPTION:Please join LDAH – Leadership in Disabilities and Achievement Hawaii – for our Learning Labs.    \nMay 7 – Letter Writing: Say What You Need To Say-Effectively \nMay 14 – Parent Talk Café: GO LIVE! Parent Talk Café – “AMA” We’re going to “Talk it out.” \n https://www.facebook.com/groups/2659334410969387 Private Facebook Group. If you are not part of this group yet\, click on the link\, answer a few questions\, and you will have access to the group. \nMay 21 – Understanding HIDOE: Who’s on First! Be Familiar with roles and responsibilities of the HIDOE SEA (State Education Agency) and LEA (Local Education Agency) \nWe highly recommend bringing your spirit of learning and engagement to our Learning Labs. \nTime: 5:00 pm – 6:00 pm.  At 4:45pm\, we will have about 15 minutes for questions that you may have. \nLocation: zoom platform \nTo register:  call our office at 808-536-9684 or electronic link https://forms.gle/y1ifAfPaJGDs5cMa8  You will receive zoom link a couple of days before the Learning Lab
URL:https://spinhawaii.org/events/ldah-learning-lab-letter-writing/
LOCATION:Zoom
END:VEVENT
BEGIN:VEVENT
DTSTART;TZID=Pacific/Honolulu:20250510T083000
DTEND;TZID=Pacific/Honolulu:20250510T160000
DTSTAMP:20260424T145504
CREATED:20250213T181847Z
LAST-MODIFIED:20250213T181847Z
UID:8241-1746865800-1746892800@spinhawaii.org
SUMMARY:SPIN Conference
DESCRIPTION:Join us for the 39th annual SPIN Conference at the beautiful Koolau Ballrooms in Kaneohe. \nFor more info and to download Registration\, Airfare and Exhibitor forms\, visit our SPIN Conference website.
URL:https://spinhawaii.org/events/spin-conference-6/
LOCATION:Koolau Ballrooms\, 45-550 Kionaole Rd\, Kaneohe\, HI\, 96744\, United States
ORGANIZER;CN="SPIN":MAILTO:spin@doh.hawaii.org
END:VEVENT
BEGIN:VEVENT
DTSTART;TZID=Pacific/Honolulu:20250514T170000
DTEND;TZID=Pacific/Honolulu:20250514T180000
DTSTAMP:20260424T145504
CREATED:20250402T201823Z
LAST-MODIFIED:20250402T201823Z
UID:8280-1747242000-1747245600@spinhawaii.org
SUMMARY:Parent Talk Cafe
DESCRIPTION:Please join LDAH – Leadership in Disabilities and Achievement Hawaii – for our Learning Labs.    \nMay 7 – Letter Writing: Say What You Need To Say-Effectively \nMay 14 – Parent Talk Café: GO LIVE! Parent Talk Café – “AMA” We’re going to “Talk it out.” \n https://www.facebook.com/groups/2659334410969387 Private Facebook Group. If you are not part of this group yet\, click on the link\, answer a few questions\, and you will have access to the group. \nMay 21 – Understanding HIDOE: Who’s on First! Be Familiar with roles and responsibilities of the HIDOE SEA (State Education Agency) and LEA (Local Education Agency) \nWe highly recommend bringing your spirit of learning and engagement to our Learning Labs. \nTime: 5:00 pm – 6:00 pm.  At 4:45pm\, we will have about 15 minutes for questions that you may have. \nLocation: zoom platform \nTo register:  call our office at 808-536-9684 or electronic link https://forms.gle/y1ifAfPaJGDs5cMa8  You will receive zoom link a couple of days before the Learning Lab
URL:https://spinhawaii.org/events/parent-talk-cafe-4/
LOCATION:Zoom
END:VEVENT
BEGIN:VEVENT
DTSTART;TZID=Pacific/Honolulu:20250516T100000
DTEND;TZID=Pacific/Honolulu:20250516T113000
DTSTAMP:20260424T145504
CREATED:20250515T184301Z
LAST-MODIFIED:20250515T184344Z
UID:8324-1747389600-1747395000@spinhawaii.org
SUMMARY:Family Hui Hawaii Parent Support
DESCRIPTION:🌿 You’re invited to our Friday Hui!\nWe host a warm and welcoming gathering for parents of children with disabilities. It’s a safe space to share\, connect\, and uplift one another. \n🗓️ Fridays | May 9 – June 6\n🕙 10:00 – 11:30 AM\n📍 Kapilina Beach Homes\, Pilikai Beach Park (in front of D’Lish)\n🔗 Register here \nOffice: (808) 230-7112\nEmail: resources@familyhuihawaii.org\n✨ Starting in June\, this hui will be moving to Waikele Community Park and will have a new name: Embrace Abilities Hui—a name that celebrates every child’s potential and the strength of our community.
URL:https://spinhawaii.org/events/family-hui-hawaii-parent-support/
END:VEVENT
BEGIN:VEVENT
DTSTART;TZID=Pacific/Honolulu:20250521T170000
DTEND;TZID=Pacific/Honolulu:20250521T180000
DTSTAMP:20260424T145504
CREATED:20250402T202020Z
LAST-MODIFIED:20250402T202020Z
UID:8282-1747846800-1747850400@spinhawaii.org
SUMMARY:LDAH Learning Lab: Understanding the HIDOE
DESCRIPTION:Please join LDAH – Leadership in Disabilities and Achievement Hawaii – for our Learning Labs.    \nMay 7 – Letter Writing: Say What You Need To Say-Effectively \nMay 14 – Parent Talk Café: GO LIVE! Parent Talk Café – “AMA” We’re going to “Talk it out.” \n https://www.facebook.com/groups/2659334410969387 Private Facebook Group. If you are not part of this group yet\, click on the link\, answer a few questions\, and you will have access to the group. \nMay 21 – Understanding HIDOE: Who’s on First! Be Familiar with roles and responsibilities of the HIDOE SEA (State Education Agency) and LEA (Local Education Agency) \nWe highly recommend bringing your spirit of learning and engagement to our Learning Labs. \nTime: 5:00 pm – 6:00 pm.  At 4:45pm\, we will have about 15 minutes for questions that you may have. \nLocation: zoom platform \nTo register:  call our office at 808-536-9684 or electronic link https://forms.gle/y1ifAfPaJGDs5cMa8  You will receive zoom link a couple of days before the Learning Lab
URL:https://spinhawaii.org/events/ldah-learning-lab-understanding-the-hidoe/
LOCATION:Zoom
END:VEVENT
BEGIN:VEVENT
DTSTART;TZID=Pacific/Honolulu:20250522T080000
DTEND;TZID=Pacific/Honolulu:20250522T170000
DTSTAMP:20260424T145504
CREATED:20250522T205237Z
LAST-MODIFIED:20250523T191348Z
UID:8366-1747900800-1747933200@spinhawaii.org
SUMMARY:Family Hui Support Group
DESCRIPTION:For more info\, click here \nEmbracing Abilities Hui \nA safe\, supportive space you can correct with other parents\, share experiences\, and access valuable resources. Whether you’re navigating services\, advocating for y our child\, or simply looking for community\, you are not alone. Come be part of a hui that understands and uplifts. \nEvery Friday in June @ Waikele Community Park\, 94-870 Lumiaina St\, Waipahu\, HI 96797
URL:https://spinhawaii.org/events/family-hui-support-group/
LOCATION:Waikele Community Park\, 94-870 Lumiaina St\, Waipahu\, HI 96797\, Waikele\, HI\, 96797\, United States
END:VEVENT
BEGIN:VEVENT
DTSTART;TZID=Pacific/Honolulu:20250523T100000
DTEND;TZID=Pacific/Honolulu:20250523T113000
DTSTAMP:20260424T145504
CREATED:20250515T184610Z
LAST-MODIFIED:20250515T184610Z
UID:8329-1747994400-1747999800@spinhawaii.org
SUMMARY:Family Hui Hawaii Parent Support
DESCRIPTION:🌿 You’re invited to our Friday Hui!\nWe host a warm and welcoming gathering for parents of children with disabilities. It’s a safe space to share\, connect\, and uplift one another. \n🗓️ Fridays | May 9 – June 6\n🕙 10:00 – 11:30 AM\n📍 Kapilina Beach Homes\, Pilikai Beach Park (in front of D’Lish)\n🔗 Register here \nOffice: (808) 230-7112\nEmail: resources@familyhuihawaii.org\n✨ Starting in June\, this hui will be moving to Waikele Community Park and will have a new name: Embrace Abilities Hui—a name that celebrates every child’s potential and the strength of our community.
URL:https://spinhawaii.org/events/family-hui-hawaii-parent-support-2/
END:VEVENT
BEGIN:VEVENT
DTSTART;TZID=Pacific/Honolulu:20250524T093000
DTEND;TZID=Pacific/Honolulu:20250524T113000
DTSTAMP:20260424T145504
CREATED:20250521T235152Z
LAST-MODIFIED:20250521T235152Z
UID:8358-1748079000-1748086200@spinhawaii.org
SUMMARY:Sensory Movie Oahu: Lilo & Stitch
DESCRIPTION:To register\, click here \nJoin Never Quit Dreaming for a sensory friendly movie experience at Consolidated Theaters Mililani.
URL:https://spinhawaii.org/events/sensory-movie-oahu-lilo-stitch/
LOCATION:Consolidated Theater Mililani\, 95-1249 Meheula Parkway\, Mililani\, HI\, 96789\, United States
ORGANIZER;CN="Never Quit Dreaming":MAILTO:neverquitdreaming@gmail.com
END:VEVENT
BEGIN:VEVENT
DTSTART;TZID=Pacific/Honolulu:20250525T130000
DTEND;TZID=Pacific/Honolulu:20250525T150000
DTSTAMP:20260424T145504
CREATED:20250521T235736Z
LAST-MODIFIED:20250521T235736Z
UID:8360-1748178000-1748185200@spinhawaii.org
SUMMARY:Sensory Friendly Film Oahu: Lilo & Stitch
DESCRIPTION:To register\, click here \nJoin Never Quit Dreaming for a sensory friendly movie experience at Consolidated Theaters Mililani.
URL:https://spinhawaii.org/events/sensory-friendly-film-oahu-lilo-stitch/
LOCATION:Consolidated Theater Mililani\, 95-1249 Meheula Parkway\, Mililani\, HI\, 96789\, United States
ORGANIZER;CN="Never Quit Dreaming":MAILTO:neverquitdreaming@gmail.com
END:VEVENT
BEGIN:VEVENT
DTSTART;TZID=Pacific/Honolulu:20250528T130000
DTEND;TZID=Pacific/Honolulu:20250528T150000
DTSTAMP:20260424T145504
CREATED:20250523T193005Z
LAST-MODIFIED:20250523T193005Z
UID:8376-1748437200-1748444400@spinhawaii.org
SUMMARY:Cross Disability Support Group
DESCRIPTION:Access to Independence Cross Disability Support Group meeting. \n🗓️ Date: Wednesday\, May 28th\n🕐 Time: 1:00 PM – 3:00 PM\n📍 Location: 200 N. Vineyard Blvd.\, Suite 508 – 5th Floor\, Hilo/Kona Room \nWe’ve attached a flyer with all the details you need. \nYour presence is truly valued whether you come to share\, listen\, or simply be in community\, you are welcome and appreciated. \nIf you have any questions or need additional information\, please feel free to reach out. \nLooking forward to seeing you there! \n\nCarolina Riquelme\, Service Coordinator \ncriquelme@accesstoindependence.org \n200 North Vineyard Boulevard\, Suite 508 \nHonolulu\, HI 96817 \nDirect (808) 626-5475 x506
URL:https://spinhawaii.org/events/cross-disability-support-group-2/
END:VEVENT
BEGIN:VEVENT
DTSTART;TZID=Pacific/Honolulu:20250528T150000
DTEND;TZID=Pacific/Honolulu:20250528T160000
DTSTAMP:20260424T145504
CREATED:20250502T171052Z
LAST-MODIFIED:20250502T171052Z
UID:8318-1748444400-1748448000@spinhawaii.org
SUMMARY:Cross Disability Support Group
DESCRIPTION:This is a warm invitation to join us for our upcoming Cross Disability Support Group meeting. We’ve attached a flyer with all the details you need. \n🗓️ Date: Wednesday\, May 28th \n🕐 Time: 1:00 PM – 3:00 PM \n📍 Location: 200 N. Vineyard Blvd.\, Suite 508 – 5th Floor\, Hilo/Kona Room \nYour presence would be a meaningful addition to our group\, and we truly look forward to connecting with you. Whether you’re joining us to share\, listen\, or simply be in community\, you are welcome. \nIf you have any questions or need additional information\, please don’t hesitate to reach out. \ncriquelme@accesstoindependence.org
URL:https://spinhawaii.org/events/cross-disability-support-group/
END:VEVENT
BEGIN:VEVENT
DTSTART;TZID=Pacific/Honolulu:20250530T100000
DTEND;TZID=Pacific/Honolulu:20250530T113000
DTSTAMP:20260424T145504
CREATED:20250515T184732Z
LAST-MODIFIED:20250515T184732Z
UID:8331-1748599200-1748604600@spinhawaii.org
SUMMARY:Family Hui Parent Support
DESCRIPTION:🌿 You’re invited to our Friday Hui!\nWe host a warm and welcoming gathering for parents of children with disabilities. It’s a safe space to share\, connect\, and uplift one another. \n🗓️ Fridays | May 9 – June 6\n🕙 10:00 – 11:30 AM\n📍 Kapilina Beach Homes\, Pilikai Beach Park (in front of D’Lish)\n🔗 Register here \nOffice: (808) 230-7112\nEmail: resources@familyhuihawaii.org\n✨ Starting in June\, this hui will be moving to Waikele Community Park and will have a new name: Embrace Abilities Hui—a name that celebrates every child’s potential and the strength of our community.
URL:https://spinhawaii.org/events/family-hui-parent-support/
END:VEVENT
END:VCALENDAR