BEGIN:VCALENDAR
VERSION:2.0
PRODID:-//Special Parent Information Network: Hawaii - ECPv6.13.2.1//NONSGML v1.0//EN
CALSCALE:GREGORIAN
METHOD:PUBLISH
X-ORIGINAL-URL:https://spinhawaii.org
X-WR-CALDESC:Events for Special Parent Information Network: Hawaii
REFRESH-INTERVAL;VALUE=DURATION:PT1H
X-Robots-Tag:noindex
X-PUBLISHED-TTL:PT1H
BEGIN:VTIMEZONE
TZID:Pacific/Honolulu
BEGIN:STANDARD
TZOFFSETFROM:-1000
TZOFFSETTO:-1000
TZNAME:HST
DTSTART:20260101T000000
END:STANDARD
END:VTIMEZONE
BEGIN:VEVENT
DTSTART;TZID=Pacific/Honolulu:20260113T173000
DTEND;TZID=Pacific/Honolulu:20260113T183000
DTSTAMP:20260422T233314
CREATED:20251216T023654Z
LAST-MODIFIED:20251216T023654Z
UID:8677-1768325400-1768329000@spinhawaii.org
SUMMARY:Read to Me International Literacy Night
DESCRIPTION:Join Read To Me International Foundation on Zoom for their monthly Virtual Family Literacy Night event on Tuesday\, January 13\, 2026\, from 5:30 PM – 6:30 PM. The event includes fun read-alouds\, songs\, and reading resources for parents and caregivers. Attendees will be mailed a free book and a resource packet after the event and based on attendance\, until supplies last.\n\nDate: Tuesday\, January 13\, 2026\nTime: 5:30 PM – 6:30 PM\nLocation: Online\, via Zoom\n\nRegistration: https://us02web.zoom.us/meeting/register/WJL022wLS-mH6iFEQgYQUQ
URL:https://spinhawaii.org/events/read-to-me-international-literacy-night/
LOCATION:Zoom
END:VEVENT
BEGIN:VEVENT
DTSTART;TZID=Pacific/Honolulu:20260115T083000
DTEND;TZID=Pacific/Honolulu:20260115T153000
DTSTAMP:20260422T233314
CREATED:20251219T181200Z
LAST-MODIFIED:20251219T181200Z
UID:8684-1768465800-1768491000@spinhawaii.org
SUMMARY:Youth Mental Health First Aid Training
DESCRIPTION:To register\, click here \nYouth Mental Health First Aid for Adults – FREE In-person training on Oahu \nYouth Mental Health First Aid is a skills-based training that teaches adults how to recognize and respond to mental health or substance use challenges in adolescents ages 12–18. \nThe Youth Mental Health First Aid course focuses on recognizing the patterns of thoughts\, feelings\, behaviors\, and appearance that indicate the possibility of a mental health challenge\, rather than focusing on specific illnesses.   Participants are taught the MHFA Action Plan (ALGEE)\, which they can apply to noncrisis and crisis scenarios. This is a 6 hour training.\nDATE: Thursday January 15\, 2026\nTIME:  8:30am-3:30pm\nLOCATION:  Office of Student Support Services\, Room 226\n                     475 22nd Avenue\, Honolulu\, HI 96816\nMore Info: (808) 305-9843 or Christine.Montague-Hicks@k12.hi.us\n\n 
URL:https://spinhawaii.org/events/youth-mental-health-first-aid-training/
END:VEVENT
END:VCALENDAR