BEGIN:VCALENDAR
VERSION:2.0
PRODID:-//Special Parent Information Network: Hawaii - ECPv6.13.2.1//NONSGML v1.0//EN
CALSCALE:GREGORIAN
METHOD:PUBLISH
X-ORIGINAL-URL:https://spinhawaii.org
X-WR-CALDESC:Events for Special Parent Information Network: Hawaii
REFRESH-INTERVAL;VALUE=DURATION:PT1H
X-Robots-Tag:noindex
X-PUBLISHED-TTL:PT1H
BEGIN:VTIMEZONE
TZID:Pacific/Honolulu
BEGIN:STANDARD
TZOFFSETFROM:-1000
TZOFFSETTO:-1000
TZNAME:HST
DTSTART:20240101T000000
END:STANDARD
END:VTIMEZONE
BEGIN:VEVENT
DTSTART;TZID=Pacific/Honolulu:20240928T090000
DTEND;TZID=Pacific/Honolulu:20240928T120000
DTSTAMP:20260425T090345
CREATED:20240909T194027Z
LAST-MODIFIED:20240909T194027Z
UID:8004-1727514000-1727524800@spinhawaii.org
SUMMARY:AccesSurf Canoe Day
DESCRIPTION:To Register\, click here
URL:https://spinhawaii.org/events/accessurf-canoe-day/
ORGANIZER;CN="AccesSurf":MAILTO:Info@AccesSurf.org
END:VEVENT
END:VCALENDAR