BEGIN:VCALENDAR
VERSION:2.0
PRODID:-//Special Parent Information Network: Hawaii - ECPv6.13.2.1//NONSGML v1.0//EN
CALSCALE:GREGORIAN
METHOD:PUBLISH
X-ORIGINAL-URL:https://spinhawaii.org
X-WR-CALDESC:Events for Special Parent Information Network: Hawaii
REFRESH-INTERVAL;VALUE=DURATION:PT1H
X-Robots-Tag:noindex
X-PUBLISHED-TTL:PT1H
BEGIN:VTIMEZONE
TZID:Pacific/Honolulu
BEGIN:STANDARD
TZOFFSETFROM:-1000
TZOFFSETTO:-1000
TZNAME:HST
DTSTART:20240101T000000
END:STANDARD
END:VTIMEZONE
BEGIN:VEVENT
DTSTART;TZID=Pacific/Honolulu:20240824T150000
DTEND;TZID=Pacific/Honolulu:20240824T170000
DTSTAMP:20260425T082624
CREATED:20240814T214238Z
LAST-MODIFIED:20240814T214238Z
UID:7949-1724511600-1724518800@spinhawaii.org
SUMMARY:Untangling Adolescence Workshop
DESCRIPTION:To register\, click here \n\n\n\n\n\nJoin us for our ONLINE Middle School: Untangling Adolescence Workshop on Aug 24 @ 3pm-5pm. RSVP at linktr.ee/ppshi\n\n\nLearn about Adolescent Development\, Transitioning to Middle School\, School Culture and Programs\, Family-School-Community Partnerships and more. Email events@ppshi.org for more info.
URL:https://spinhawaii.org/events/untangling-adolescence-workshop/
LOCATION:On Your Computer
END:VEVENT
END:VCALENDAR