BEGIN:VCALENDAR
VERSION:2.0
PRODID:-//Special Parent Information Network: Hawaii - ECPv6.13.2.1//NONSGML v1.0//EN
CALSCALE:GREGORIAN
METHOD:PUBLISH
X-WR-CALNAME:Special Parent Information Network: Hawaii
X-ORIGINAL-URL:https://spinhawaii.org
X-WR-CALDESC:Events for Special Parent Information Network: Hawaii
REFRESH-INTERVAL;VALUE=DURATION:PT1H
X-Robots-Tag:noindex
X-PUBLISHED-TTL:PT1H
BEGIN:VTIMEZONE
TZID:Pacific/Honolulu
BEGIN:STANDARD
TZOFFSETFROM:-1000
TZOFFSETTO:-1000
TZNAME:HST
DTSTART:20250101T000000
END:STANDARD
END:VTIMEZONE
BEGIN:VEVENT
DTSTART;TZID=Pacific/Honolulu:20250907T100000
DTEND;TZID=Pacific/Honolulu:20250907T120000
DTSTAMP:20260423T170607
CREATED:20250903T010404Z
LAST-MODIFIED:20250903T010404Z
UID:8489-1757239200-1757246400@spinhawaii.org
SUMMARY:Cosmic Bowl for Young Adults with Autism
DESCRIPTION:Hawaii Young Adults in Transition is an organization supporting families with young adults and older adults on the Autism spectrum.\n\nCosmic Bowling Meet Up\nDate: Sunday September 7\nTime: 10:00 am to 12:00 pm\nLocation: Aiea Bowl – 99-115 Aiea Hights Drive\, Suite 310\nCost: $6 for shoe rental\nLimited space\, register today!\nLink to Register: https://forms.gle/StCyZJ8awm2AraqW8
URL:https://spinhawaii.org/events/cosmic-bowl-for-young-adults-with-autism/
LOCATION:Aiea Bowl\, 99-115 Aiea Heights Dr.\, Aiea\, HI\, 96701\, United States
END:VEVENT
END:VCALENDAR