BEGIN:VCALENDAR
VERSION:2.0
PRODID:-//Special Parent Information Network: Hawaii - ECPv6.13.2.1//NONSGML v1.0//EN
CALSCALE:GREGORIAN
METHOD:PUBLISH
X-ORIGINAL-URL:https://spinhawaii.org
X-WR-CALDESC:Events for Special Parent Information Network: Hawaii
REFRESH-INTERVAL;VALUE=DURATION:PT1H
X-Robots-Tag:noindex
X-PUBLISHED-TTL:PT1H
BEGIN:VTIMEZONE
TZID:Pacific/Honolulu
BEGIN:STANDARD
TZOFFSETFROM:-1000
TZOFFSETTO:-1000
TZNAME:HST
DTSTART:20250101T000000
END:STANDARD
END:VTIMEZONE
BEGIN:VEVENT
DTSTART;TZID=Pacific/Honolulu:20250430T090000
DTEND;TZID=Pacific/Honolulu:20250430T170000
DTSTAMP:20260424T033655
CREATED:20250402T193401Z
LAST-MODIFIED:20250402T193401Z
UID:8275-1746003600-1746032400@spinhawaii.org
SUMMARY:Assistive Technology Awareness Day
DESCRIPTION:Join Us for ATRC’s AT Awareness Day 2025! \nOn Zoom and in person on Oahu! \nMore info\, click here \nZoom registration link coming soon \nDate: April 30\, 2025 \nTime: 9:00 AM – 5:00 PM (HST) \nVirtual & In-Person at the Lanakila Multipurpose Senior Center\, Honolulu \nExplore the world of Assistive Technology through interactive sessions\, demos\, and expert insights! Whether you’re interested in AT for speech\, mental health\, or adapting everyday tasks\, this event has something for everyone. \nLearn more\, connect with experts\, and discover how AT can enhance lives.
URL:https://spinhawaii.org/events/assistive-technology-awareness-day/
LOCATION:HI
ORGANIZER;CN="ATRC":MAILTO:lynne@atrc.org
END:VEVENT
END:VCALENDAR