BEGIN:VCALENDAR
VERSION:2.0
PRODID:-//Special Parent Information Network: Hawaii - ECPv6.13.2.1//NONSGML v1.0//EN
CALSCALE:GREGORIAN
METHOD:PUBLISH
X-WR-CALNAME:Special Parent Information Network: Hawaii
X-ORIGINAL-URL:https://spinhawaii.org
X-WR-CALDESC:Events for Special Parent Information Network: Hawaii
REFRESH-INTERVAL;VALUE=DURATION:PT1H
X-Robots-Tag:noindex
X-PUBLISHED-TTL:PT1H
BEGIN:VTIMEZONE
TZID:Pacific/Honolulu
BEGIN:STANDARD
TZOFFSETFROM:-1000
TZOFFSETTO:-1000
TZNAME:HST
DTSTART:20240101T000000
END:STANDARD
END:VTIMEZONE
BEGIN:VEVENT
DTSTART;TZID=Pacific/Honolulu:20240108T180000
DTEND;TZID=Pacific/Honolulu:20240108T193000
DTSTAMP:20260425T161213
CREATED:20240102T211738Z
LAST-MODIFIED:20240102T212122Z
UID:7605-1704736800-1704742200@spinhawaii.org
SUMMARY:Hoomana Parent Support
DESCRIPTION:Aloha Families\, Friends and Newcomers! \n\nIn case you are new to Ho’omana\, we are a parent led\, parent run support group for families. We are designed to support parents with a child on the Autism Spectrum in the Windward District.\n\nLearn more about us on our Ho’omana Website HERE.\n\n\nWherever you reside in the state come join us and you’ll enjoy information and resources relevant to parents that have a child with intellectual and developmental disabilities.\n\n\n\nOUR SUPPORT GROUP MEETINGS \n\n\n\n(RSVP now and receive an email reminder with zoom link)\n\n\n\n\n\n\n\n\n\n\nJANUARY 2024\nJoin us on Monday\, 01/08/2024 from 6-7:30p for our monthly Talk Story support group meeting. To register for this support group RSVP HERE\n\nFEBRUARY 2024\nJoin us on Monday\, 02/05/24 from 6-7:30p for our monthly Talk Story support group meeting. To register for this support group RSVP HERE\n\nMARCH 2024\nJoin us on Monday\, 03/04/24 from 6-7:30p for our monthly Talk Story support group meeting. To register for this support group RSVP HERE \n\nWe look forward to seeing all of you and also to meeting new families who may be coming for the first time!\n\n\nDebbie & Kahea\nHo’omana Parent Support Group Facilitators\nFollow us on Instagram @HoomanaGroup
URL:https://spinhawaii.org/events/hoomana-parent-support-11/
LOCATION:Virtual Event\, United States
ORGANIZER;CN="Hoomana Parents Supporting Parents":MAILTO:hoomanagroup@gmail.com
END:VEVENT
BEGIN:VEVENT
DTSTART;TZID=Pacific/Honolulu:20240127T130000
DTEND;TZID=Pacific/Honolulu:20240127T173000
DTSTAMP:20260425T161213
CREATED:20240112T011114Z
LAST-MODIFIED:20240112T011114Z
UID:7649-1706360400-1706376600@spinhawaii.org
SUMMARY:Ho'omana Birthday Carnival Celebration
DESCRIPTION: \nWe’re excited to announce that we are celebrating 6 years of Ho’omana Parent Support Groups in January 2024! \nPlease come join us for a FAMILY FRIENDLY event the whole family can participate with.\nMark your calendar!  Saturday January 27th from 1:00-5:30p in Kaneohe.\n \n\nIn case you are new to Ho’omana\, we are a parent led\, parent run support group for families. Initially designed to support parents with a child on the Autism Spectrum in the Windward District\, we have since grown statewide! We strive to provide information\, resources and lived experiences relevant to parents that have a child with intellectual and developmental disabilities. \n \nThis month there will be carnival games\, activities\, food\, snacks and an hourly birthday party for children to have fun while practicing social and communication skills with peers from all ages.\n \nThis is a free event to our community! \nWe do ask that you kindly view the attached flyer or click RSVP here to help us prepare. \n\n \nLook forward to meeting you at our celebration event or a support group meeting soon!\n \n\nDebbie & Kahea \nHo’omana Parent Support Group Facilitators \nFollow us on Instagram @HoomanaGroup\n\n\n\n\nNext Support Group Meetings:\n\n\nFEBRUARY 2024 \nJoin us on Monday\, 02/05/24 from 6-7:30p for our monthly Talk Story support group meeting. To register for this support group RSVP HERE \n \nMARCH 2024 \nJoin us on Monday\, 03/04/24 from 6-7:30p for our monthly Talk Story support group meeting. To register for this support group RSVP HERE 
URL:https://spinhawaii.org/events/hoomana-birthday-carnival-celebration/
LOCATION:Windward Church of the Nazarene\, 45-232 Pua'ae Rd.\, Kaneohe\, HI\, 96744\, United States
ORGANIZER;CN="Hoomana Parents Supporting Parents":MAILTO:hoomanagroup@gmail.com
END:VEVENT
END:VCALENDAR