BEGIN:VCALENDAR
VERSION:2.0
PRODID:-//Special Parent Information Network: Hawaii - ECPv6.13.2.1//NONSGML v1.0//EN
CALSCALE:GREGORIAN
METHOD:PUBLISH
X-ORIGINAL-URL:https://spinhawaii.org
X-WR-CALDESC:Events for Special Parent Information Network: Hawaii
REFRESH-INTERVAL;VALUE=DURATION:PT1H
X-Robots-Tag:noindex
X-PUBLISHED-TTL:PT1H
BEGIN:VTIMEZONE
TZID:Pacific/Honolulu
BEGIN:STANDARD
TZOFFSETFROM:-1000
TZOFFSETTO:-1000
TZNAME:HST
DTSTART:20250101T000000
END:STANDARD
END:VTIMEZONE
BEGIN:VEVENT
DTSTART;TZID=Pacific/Honolulu:20250201T090000
DTEND;TZID=Pacific/Honolulu:20250201T140000
DTSTAMP:20260424T050913
CREATED:20250117T193604Z
LAST-MODIFIED:20250117T193604Z
UID:8192-1738400400-1738418400@spinhawaii.org
SUMMARY:CCC Community Bridging Day
DESCRIPTION:To register\, email: william.cadena@k12.hi.us\n\nThe Community Children’s Council hopes you are able to join us for this FREE Workshop that will be happening on Oahu.\n\nDate: Saturday\, February 1\, 2025\nTime: 9 am to 2 pm\nLocation: Salvation Army Kroc Center\nAirfare Scholarships are available through Hilopaa. \nGround transportation is also being taken care of\n\nJoin us as we build a “strategy bridge” for each county which includes: \nA plan to bring together partners to learn from each other and identify opportunities for collaboration and connection \nAccess to centralized information on programs\, services\, and supports for children with special needs \nAn advocacy toolkit to pitch the idea to county decision makers
URL:https://spinhawaii.org/events/ccc-community-bridging-day/
LOCATION:Kroc Center Hawaii\, 91-3257 Kualakai Parkway\, Ewa Beach\, 96706\, United States
END:VEVENT
END:VCALENDAR