BEGIN:VCALENDAR
VERSION:2.0
PRODID:-//Special Parent Information Network: Hawaii - ECPv6.13.2.1//NONSGML v1.0//EN
CALSCALE:GREGORIAN
METHOD:PUBLISH
X-WR-CALNAME:Special Parent Information Network: Hawaii
X-ORIGINAL-URL:https://spinhawaii.org
X-WR-CALDESC:Events for Special Parent Information Network: Hawaii
REFRESH-INTERVAL;VALUE=DURATION:PT1H
X-Robots-Tag:noindex
X-PUBLISHED-TTL:PT1H
BEGIN:VTIMEZONE
TZID:Pacific/Honolulu
BEGIN:STANDARD
TZOFFSETFROM:-1000
TZOFFSETTO:-1000
TZNAME:HST
DTSTART:20240101T000000
END:STANDARD
END:VTIMEZONE
BEGIN:VEVENT
DTSTART;TZID=Pacific/Honolulu:20241029T090000
DTEND;TZID=Pacific/Honolulu:20241029T130000
DTSTAMP:20260425T003250
CREATED:20241017T193615Z
LAST-MODIFIED:20241017T193615Z
UID:8066-1730192400-1730206800@spinhawaii.org
SUMMARY:Oahu Care Mapping
DESCRIPTION:To register\, click here
URL:https://spinhawaii.org/events/oahu-care-mapping/
LOCATION:Japanese Cultural Center\, 2454 S. Beretania St.\, Honolulu\, HI\, 96826\, United States
END:VEVENT
END:VCALENDAR