BEGIN:VCALENDAR
VERSION:2.0
PRODID:-//Special Parent Information Network: Hawaii - ECPv6.13.2.1//NONSGML v1.0//EN
CALSCALE:GREGORIAN
METHOD:PUBLISH
X-WR-CALNAME:Special Parent Information Network: Hawaii
X-ORIGINAL-URL:https://spinhawaii.org
X-WR-CALDESC:Events for Special Parent Information Network: Hawaii
REFRESH-INTERVAL;VALUE=DURATION:PT1H
X-Robots-Tag:noindex
X-PUBLISHED-TTL:PT1H
BEGIN:VTIMEZONE
TZID:Pacific/Honolulu
BEGIN:STANDARD
TZOFFSETFROM:-1000
TZOFFSETTO:-1000
TZNAME:HST
DTSTART:20250101T000000
END:STANDARD
END:VTIMEZONE
BEGIN:VEVENT
DTSTART;TZID=Pacific/Honolulu:20250813T170000
DTEND;TZID=Pacific/Honolulu:20250813T180000
DTSTAMP:20260423T235229
CREATED:20250807T233321Z
LAST-MODIFIED:20250807T233321Z
UID:8437-1755104400-1755108000@spinhawaii.org
SUMMARY:LDAH Learning Lab: Chapter 60 & IDEA
DESCRIPTION:Please join LDAH – Leadership in Disabilities and Achievement Hawaii – for our Learning Labs:  Building Leaders in Parents creates a community of voices.  Be part of the solution for your child receiving specially designed instruction under IDEA.  \n\nAugust 13    Chapter 60/IDEA Hawaii’s Rules & Regulations affecting a free appropriate public education for students who are eligible\n\nWe highly recommend bringing your spirit of learning and engagement to our Learning Labs. \nTime: 5:00 pm – 6:00 pm.  At 4:45pm\, we will have about 15 minutes for questions that you may have. \nLocation: zoom platform \nTo register:  call our office at 808-536-9684 or below is the registration link. \nRegistration Link for Learning Lab \nhttps://forms.gle/d3KVyL5TQLaGcL437
URL:https://spinhawaii.org/events/ldah-learning-lab-chapter-60-idea/
LOCATION:Zoom
END:VEVENT
END:VCALENDAR