BEGIN:VCALENDAR
VERSION:2.0
PRODID:-//Special Parent Information Network: Hawaii - ECPv6.13.2.1//NONSGML v1.0//EN
CALSCALE:GREGORIAN
METHOD:PUBLISH
X-ORIGINAL-URL:https://spinhawaii.org
X-WR-CALDESC:Events for Special Parent Information Network: Hawaii
REFRESH-INTERVAL;VALUE=DURATION:PT1H
X-Robots-Tag:noindex
X-PUBLISHED-TTL:PT1H
BEGIN:VTIMEZONE
TZID:Pacific/Honolulu
BEGIN:STANDARD
TZOFFSETFROM:-1000
TZOFFSETTO:-1000
TZNAME:HST
DTSTART:20230101T000000
END:STANDARD
END:VTIMEZONE
BEGIN:VEVENT
DTSTART;TZID=Pacific/Honolulu:20231028T080000
DTEND;TZID=Pacific/Honolulu:20231028T120000
DTSTAMP:20260425T130636
CREATED:20231019T204056Z
LAST-MODIFIED:20231019T204056Z
UID:7490-1698480000-1698494400@spinhawaii.org
SUMMARY:Big Island Ohana Resource Fair
DESCRIPTION: 
URL:https://spinhawaii.org/events/big-island-ohana-resource-fair/
END:VEVENT
END:VCALENDAR