BEGIN:VCALENDAR
VERSION:2.0
PRODID:-//Special Parent Information Network: Hawaii - ECPv6.13.2.1//NONSGML v1.0//EN
CALSCALE:GREGORIAN
METHOD:PUBLISH
X-WR-CALNAME:Special Parent Information Network: Hawaii
X-ORIGINAL-URL:https://spinhawaii.org
X-WR-CALDESC:Events for Special Parent Information Network: Hawaii
REFRESH-INTERVAL;VALUE=DURATION:PT1H
X-Robots-Tag:noindex
X-PUBLISHED-TTL:PT1H
BEGIN:VTIMEZONE
TZID:Pacific/Honolulu
BEGIN:STANDARD
TZOFFSETFROM:-1000
TZOFFSETTO:-1000
TZNAME:HST
DTSTART:20250101T000000
END:STANDARD
END:VTIMEZONE
BEGIN:VEVENT
DTSTART;TZID=Pacific/Honolulu:20250222T183000
DTEND;TZID=Pacific/Honolulu:20250222T203000
DTSTAMP:20260424T051145
CREATED:20250213T180046Z
LAST-MODIFIED:20250213T180046Z
UID:8238-1740249000-1740256200@spinhawaii.org
SUMMARY:Valentine Dance
DESCRIPTION:To register\, click here \nThe Hawaii Autism Foundation is hosting a free Valentine’s Day dance coming up on Sat\, Feb 22nd.  All are welcome! \nDATE: Saturday February 22\, 2025 \nTIME: 6:30 – 8:30 pm\nLOCATION: St. Anthony’s Church\, 148  Makawao St. (corner of Makawao & N. Kalaheo Ave.)\n\nCome enjoy:\n\n\nFREE Admission\n\n\nPhoto Booth\n\n\nPizza & Snacks\n\n\nMusic by DJ Ray\n\n\nMeet New Friends\n\n\n\nMahalo for your support and let me know if you have any questions. \nSarah Sheppard \ndirector@hawaiiautismfoundation.org\nDirector\nHawaii Autism Foundation\nhttps://hawaiiautismfoundation.org/
URL:https://spinhawaii.org/events/valentine-dance/
LOCATION:St. Anthony of Padua Church Kailua\, 148 A Makawao St.\, Kailua\, HI\, 96734\, United States
ORGANIZER;CN="Hawaii Autism Foundation":MAILTO:director@hawaiiautismfoundation.org
END:VEVENT
END:VCALENDAR