BEGIN:VCALENDAR
VERSION:2.0
PRODID:-//Special Parent Information Network: Hawaii - ECPv6.13.2.1//NONSGML v1.0//EN
CALSCALE:GREGORIAN
METHOD:PUBLISH
X-ORIGINAL-URL:https://spinhawaii.org
X-WR-CALDESC:Events for Special Parent Information Network: Hawaii
REFRESH-INTERVAL;VALUE=DURATION:PT1H
X-Robots-Tag:noindex
X-PUBLISHED-TTL:PT1H
BEGIN:VTIMEZONE
TZID:Pacific/Honolulu
BEGIN:STANDARD
TZOFFSETFROM:-1000
TZOFFSETTO:-1000
TZNAME:HST
DTSTART:20250101T000000
END:STANDARD
END:VTIMEZONE
BEGIN:VEVENT
DTSTART;TZID=Pacific/Honolulu:20250419T170000
DTEND;TZID=Pacific/Honolulu:20250419T200000
DTSTAMP:20260424T034631
CREATED:20250328T194521Z
LAST-MODIFIED:20250328T194521Z
UID:8268-1745082000-1745092800@spinhawaii.org
SUMMARY:Silent Disco with NQD
DESCRIPTION:Never Quit Dreaming and Hawaii Dance Bomb are hosting a Silent Disco Dance Party!\nHeadphones on\, dancing freely to your own beat. A joyous celebration that harmonizes our special needs community and the boarder community\, creating a vibrant dance of inclusion. Make a couple of friends\, play games and puzzles hosted by the Hawaiian Cubing Community.\n\nDATE: Saturday April 19\, 2025\nTIME: 5:00 – 8:00 pm\nLOCATION: Town Center of Mililani\nCOST: FREE\nREGISTER:https://www.nqdhawaii.org/silentdisco
URL:https://spinhawaii.org/events/silent-disco-with-nqd/
LOCATION:Mililani Town Center\, 95-1249 Meheula Parkway\, Mililani\, 96789\, United States
ORGANIZER;CN="Never Quit Dreaming":MAILTO:neverquitdreaming@gmail.com
END:VEVENT
END:VCALENDAR