BEGIN:VCALENDAR
VERSION:2.0
PRODID:-//Special Parent Information Network: Hawaii - ECPv6.13.2.1//NONSGML v1.0//EN
CALSCALE:GREGORIAN
METHOD:PUBLISH
X-WR-CALNAME:Special Parent Information Network: Hawaii
X-ORIGINAL-URL:https://spinhawaii.org
X-WR-CALDESC:Events for Special Parent Information Network: Hawaii
REFRESH-INTERVAL;VALUE=DURATION:PT1H
X-Robots-Tag:noindex
X-PUBLISHED-TTL:PT1H
BEGIN:VTIMEZONE
TZID:Pacific/Honolulu
BEGIN:STANDARD
TZOFFSETFROM:-1000
TZOFFSETTO:-1000
TZNAME:HST
DTSTART:20240101T000000
END:STANDARD
END:VTIMEZONE
BEGIN:VEVENT
DTSTART;TZID=Pacific/Honolulu:20240307T080000
DTEND;TZID=Pacific/Honolulu:20240307T140000
DTSTAMP:20260425T115323
CREATED:20240129T193822Z
LAST-MODIFIED:20240129T193822Z
UID:7665-1709798400-1709820000@spinhawaii.org
SUMMARY:Day at the Capitol
DESCRIPTION:To register\, click here \nTo receive a bento lunch\, you must register for this free event.
URL:https://spinhawaii.org/events/day-at-the-capitol-3/
LOCATION:Hawaii State Capital\, 415 South Beretania St.\, Honolulu\, HI\, 96813\, United States
END:VEVENT
END:VCALENDAR