BEGIN:VCALENDAR
VERSION:2.0
PRODID:-//Special Parent Information Network: Hawaii - ECPv6.13.2.1//NONSGML v1.0//EN
CALSCALE:GREGORIAN
METHOD:PUBLISH
X-ORIGINAL-URL:https://spinhawaii.org
X-WR-CALDESC:Events for Special Parent Information Network: Hawaii
REFRESH-INTERVAL;VALUE=DURATION:PT1H
X-Robots-Tag:noindex
X-PUBLISHED-TTL:PT1H
BEGIN:VTIMEZONE
TZID:Pacific/Honolulu
BEGIN:STANDARD
TZOFFSETFROM:-1000
TZOFFSETTO:-1000
TZNAME:HST
DTSTART:20250101T000000
END:STANDARD
END:VTIMEZONE
BEGIN:VEVENT
DTSTART;TZID=Pacific/Honolulu:20250305T090000
DTEND;TZID=Pacific/Honolulu:20250305T150000
DTSTAMP:20260425T001645
CREATED:20250129T192552Z
LAST-MODIFIED:20250129T192552Z
UID:8207-1741165200-1741186800@spinhawaii.org
SUMMARY:Day at the Capitol
DESCRIPTION:To register\, click here\n \nThe Hawaii State Council on Developmental Disabilities (DD Councl) presents the 2025 Day at the Capitol!\n\nA great opportunity to meet your legislators at the Capitol! Discuss disability-related issues/concerns\, and meet with other concerned citizens.\n\nDATE: Wednesday\, March 5\, 2025\nTIME: 9:00 am – 3:00 pm\nWHERE: Hawaii State Capitol – meet in the basement Auditorium\n\nRegister for FREE here: https://www.eventbrite.com/e/a-day-at-the-capitol-2025-tickets-1115945897219?aff=oddtdtcreator\n\nDeadline to register is February 14\, 2025\n\nActivities include:\n\n\nWelcome & Orientation\n\n\nMeet with Legislators\n\n\nLearn about the Public Access Room\n\n\nIssues we will be discussing include:\n\n\nAdvocacy\n\n\nFetal Alcohol Spectrum Disorder\n\n\nEarly Intervention\n\n\nEducation\n\n\nEmergency Preparedness\n\n\nEmployment\n\n\nHealth Care\n\n\nHousing\n\n\nSelf-Determination\n\n\nTransportation\n\n\nFor more information\, or to volunteer for this event\, please contact Zosimo Arista\, 808-586-8169
URL:https://spinhawaii.org/events/day-at-the-capitol-4/
LOCATION:Hawaii State Capital\, 415 South Beretania St.\, Honolulu\, HI\, 96813\, United States
END:VEVENT
END:VCALENDAR