BEGIN:VCALENDAR
VERSION:2.0
PRODID:-//Special Parent Information Network: Hawaii - ECPv6.13.2.1//NONSGML v1.0//EN
CALSCALE:GREGORIAN
METHOD:PUBLISH
X-WR-CALNAME:Special Parent Information Network: Hawaii
X-ORIGINAL-URL:https://spinhawaii.org
X-WR-CALDESC:Events for Special Parent Information Network: Hawaii
REFRESH-INTERVAL;VALUE=DURATION:PT1H
X-Robots-Tag:noindex
X-PUBLISHED-TTL:PT1H
BEGIN:VTIMEZONE
TZID:Pacific/Honolulu
BEGIN:STANDARD
TZOFFSETFROM:-1000
TZOFFSETTO:-1000
TZNAME:HST
DTSTART:20250101T000000
END:STANDARD
END:VTIMEZONE
BEGIN:VEVENT
DTSTART;TZID=Pacific/Honolulu:20250528T150000
DTEND;TZID=Pacific/Honolulu:20250528T160000
DTSTAMP:20260424T021820
CREATED:20250502T171052Z
LAST-MODIFIED:20250502T171052Z
UID:8318-1748444400-1748448000@spinhawaii.org
SUMMARY:Cross Disability Support Group
DESCRIPTION:This is a warm invitation to join us for our upcoming Cross Disability Support Group meeting. We’ve attached a flyer with all the details you need. \n🗓️ Date: Wednesday\, May 28th \n🕐 Time: 1:00 PM – 3:00 PM \n📍 Location: 200 N. Vineyard Blvd.\, Suite 508 – 5th Floor\, Hilo/Kona Room \nYour presence would be a meaningful addition to our group\, and we truly look forward to connecting with you. Whether you’re joining us to share\, listen\, or simply be in community\, you are welcome. \nIf you have any questions or need additional information\, please don’t hesitate to reach out. \ncriquelme@accesstoindependence.org
URL:https://spinhawaii.org/events/cross-disability-support-group/
END:VEVENT
END:VCALENDAR