BEGIN:VCALENDAR
VERSION:2.0
PRODID:-//Special Parent Information Network: Hawaii - ECPv6.13.2.1//NONSGML v1.0//EN
CALSCALE:GREGORIAN
METHOD:PUBLISH
X-ORIGINAL-URL:https://spinhawaii.org
X-WR-CALDESC:Events for Special Parent Information Network: Hawaii
REFRESH-INTERVAL;VALUE=DURATION:PT1H
X-Robots-Tag:noindex
X-PUBLISHED-TTL:PT1H
BEGIN:VTIMEZONE
TZID:Pacific/Honolulu
BEGIN:STANDARD
TZOFFSETFROM:-1000
TZOFFSETTO:-1000
TZNAME:HST
DTSTART:20250101T000000
END:STANDARD
END:VTIMEZONE
BEGIN:VEVENT
DTSTART;TZID=Pacific/Honolulu:20250204T150000
DTEND;TZID=Pacific/Honolulu:20250204T163000
DTSTAMP:20260424T054933
CREATED:20250129T200619Z
LAST-MODIFIED:20250129T200619Z
UID:8209-1738681200-1738686600@spinhawaii.org
SUMMARY:Caregiver Engagement Webinar
DESCRIPTION:To register\, click here \n\nThis is a friendly reminder that the Evidence-Based Services Committee will be presenting its next roundtable presentation entitled “Caregiver Engagement in Evidence-Based Services” and will take place next Tuesday\, February 4\, 2025 from 3:00-4:30pm (HST) via Zoom Webinar. Please see the attached flyer for more information about this event. Please share widely with those you think may be interested!\n\n\n\n \nThis event is free and registration is required. \nWe will be offering 1.5 Social Work continuing education contact hours through the National Association of Social Workers – Hawaiʻi Chapter (Approval number HI62792023-167). \n \nAn exciting update: Psychologists who are HPA members or HiBHC volunteers will also be offered free CE credits thanks to our co-sponsor HPA\, with the support of the Hawai‘i Behavioral Health Connection (a program of HPA)!
URL:https://spinhawaii.org/events/caregiver-engagement-webinar/
LOCATION:Zoom
ORGANIZER;CN="EBS Commiittee (Help Your Keiki)":MAILTO:albertcm@hawaii.edu
END:VEVENT
END:VCALENDAR