BEGIN:VCALENDAR
VERSION:2.0
PRODID:-//Special Parent Information Network: Hawaii - ECPv6.13.2.1//NONSGML v1.0//EN
CALSCALE:GREGORIAN
METHOD:PUBLISH
X-ORIGINAL-URL:https://spinhawaii.org
X-WR-CALDESC:Events for Special Parent Information Network: Hawaii
REFRESH-INTERVAL;VALUE=DURATION:PT1H
X-Robots-Tag:noindex
X-PUBLISHED-TTL:PT1H
BEGIN:VTIMEZONE
TZID:Pacific/Honolulu
BEGIN:STANDARD
TZOFFSETFROM:-1000
TZOFFSETTO:-1000
TZNAME:HST
DTSTART:20250101T000000
END:STANDARD
END:VTIMEZONE
BEGIN:VEVENT
DTSTART;TZID=Pacific/Honolulu:20251001T140000
DTEND;TZID=Pacific/Honolulu:20251001T170000
DTSTAMP:20260423T123429
CREATED:20250908T212304Z
LAST-MODIFIED:20250908T212304Z
UID:8510-1759327200-1759338000@spinhawaii.org
SUMMARY:Kauai Footsteps to Transition Fair
DESCRIPTION:To register for this FREE event\, click here\nYou are invited to attend the Kauai Footsteps to Transition fair on October 1st!  Join us as we “STEP” into transitions\, an educational afternoon filled with min-talks and resource tables to help students and their parents/guardians navigate their transition journey towards life and independence after high school. Students and self-advocates can work on advocacy during Q&A with Kauai County Council members and Legislators.\nTransition planning begins early!  This event is open to high school\, middle school and elementary students\, families\, teachers\, DOE staff and community partners and providers.\nDATE: Wednesday October 1\, 2025\nTIME: 2:00 – 5:00 pm\nWHERE: Kauai Convention Hall – 4191 Hardy St\, Lihue\, HI 96766\n\n\nResource Tables from local and state agencies\n\n\nMini Talk Sessions include topics on\n\n\nHousing\n\n\nEmployment\n\n\nHealth Transitions\n\n\nIEP Transitions\n\n\nAlternatives to Guardianship\n\n\n\n\nLegislator Q&A\n\n\nAwesome Door prizes and a FREE Bento Dinner!  If you pre-register\, you will receive 2 door prize tickets!\nFrom 5:00 – 6:00 pm\, a Q&A session will be held with our Kauai County Council Members.\nFor more information on transition from high school to adult life\, visit the Hawaii Footsteps to Transition Fair website: https://footstepstotransition.weebly.com/  to learn about health transitions\, age of majority when your child turns 18\, college and career opportunities and more! Don’t forget to download your island-specific  Footsteps to Transition workbook to help you get started in your teens transition out of high school.
URL:https://spinhawaii.org/events/kauai-footsteps-to-transition-fair-2/
LOCATION:Kauai Convention Hall\, 4191 Hardy St\, Lihue\, Hawaii\, 96766
END:VEVENT
BEGIN:VEVENT
DTSTART;TZID=Pacific/Honolulu:20251018T090000
DTEND;TZID=Pacific/Honolulu:20251018T130000
DTSTAMP:20260423T123429
CREATED:20250909T180728Z
LAST-MODIFIED:20250909T180728Z
UID:8515-1760778000-1760792400@spinhawaii.org
SUMMARY:North Hawaii Transition Fair
DESCRIPTION:Please join us for a full day of resources that help students with disabilities\, and their families\, as we prepare them for life after high school. You will have the opportunity to speak with parent support groups\, resources in planning for healthcare\, education and employment\, along with learning about self-determination and advocacy skills. There will be guest speakers\, student spotlights and activities for students as well.\nTransition planning begins early!  This event is open to high school\, middle school and elementary students\, families\, teachers\, DOE staff and community partners and providers across the island of Hawaii.\nRegistration opens at 8:45 and we will be providing a FREE LUNCH while supplies last\, provided by one of our fabulous sponsors! Walk-ins are welcome\, but if you can pre-register\, it will help us plan for food and supplies.\nTo pre-register\, click here\nFor more information about the fair and the resource tables\, click here\nDATE: Saturday October 18\, 2025\nTIME: 9:00 am – 1:00 pm\nWHERE: Mana Christian Ohana – 67-1182 Lindsey Rd\, Waimea\, HI 96743\nFor more information on transition from high school to adult life\, visit the Hawaii Footsteps to Transition Fair website: https://footstepstotransition.weebly.com/  to learn about health transitions\, age of majority when your child turns 18\, college and career opportunities and more! Don’t forget to download your island-specific  Footsteps to Transition workbook to help you get started in your teens transition out of high school.
URL:https://spinhawaii.org/events/north-hawaii-transition-fair/
LOCATION:Mana Christian Ohana Hall\, 67-1182 Lindsey Road\, Kamuela\, HI\, 96743\, United Kingdom
END:VEVENT
END:VCALENDAR