BEGIN:VCALENDAR
VERSION:2.0
PRODID:-//Special Parent Information Network: Hawaii - ECPv6.13.2.1//NONSGML v1.0//EN
CALSCALE:GREGORIAN
METHOD:PUBLISH
X-ORIGINAL-URL:https://spinhawaii.org
X-WR-CALDESC:Events for Special Parent Information Network: Hawaii
REFRESH-INTERVAL;VALUE=DURATION:PT1H
X-Robots-Tag:noindex
X-PUBLISHED-TTL:PT1H
BEGIN:VTIMEZONE
TZID:Pacific/Honolulu
BEGIN:STANDARD
TZOFFSETFROM:-1000
TZOFFSETTO:-1000
TZNAME:HST
DTSTART:20230101T000000
END:STANDARD
END:VTIMEZONE
BEGIN:VEVENT
DTSTART;TZID=Pacific/Honolulu:20231027T100000
DTEND;TZID=Pacific/Honolulu:20231027T120000
DTSTAMP:20260425T180009
CREATED:20230927T224139Z
LAST-MODIFIED:20230927T224139Z
UID:7440-1698400800-1698408000@spinhawaii.org
SUMMARY:Coffee Cake & Play Date for D/HH Families
DESCRIPTION:To register\, visit https://bit.ly/hpdbpcoffeecake \nFor more info\, email Ginger at gingermk@hawaii.edu or call 808-699-3934
URL:https://spinhawaii.org/events/coffee-cake-play-date-for-d-hh-families/
LOCATION:Comprehensive Services Center\, 1953 Beretania Strette\, Honolulu\, HI\, 96826\, United States
ORGANIZER;CN="Comprehensive Services Center":MAILTO:admin@csc-hawaii.org
END:VEVENT
BEGIN:VEVENT
DTSTART;TZID=Pacific/Honolulu:20231028T160000
DTEND;TZID=Pacific/Honolulu:20231028T200000
DTSTAMP:20260425T180009
CREATED:20231009T183436Z
LAST-MODIFIED:20231009T183436Z
UID:7453-1698508800-1698523200@spinhawaii.org
SUMMARY:Imua Maui Keiki Halloween Festival
DESCRIPTION:For more info\, visit: https://discoverimua.com/halloween/ \nRegistration is required.  Click here to register \n$5 registration fee covers the whole family!
URL:https://spinhawaii.org/events/imua-maui-keiki-halloween-festival/
LOCATION:HI
END:VEVENT
BEGIN:VEVENT
DTSTART;TZID=Pacific/Honolulu:20231028T180000
DTEND;TZID=Pacific/Honolulu:20231028T200000
DTSTAMP:20260425T180009
CREATED:20230919T004050Z
LAST-MODIFIED:20231019T234714Z
UID:7411-1698516000-1698523200@spinhawaii.org
SUMMARY:Halloween Dance Party
DESCRIPTION:To register\, click here  \n \n 
URL:https://spinhawaii.org/events/halloween-dance-party/
LOCATION:St. Christopher’s Episcopal Church\, 93 N. Kainalu Dr.\, Kailua\, 96734\, United States
ORGANIZER;CN="Hawaii Austism Foundation":MAILTO:shannon@hawaiiautismfoundation.org
END:VEVENT
BEGIN:VEVENT
DTSTART;TZID=Pacific/Honolulu:20231031T170000
DTEND;TZID=Pacific/Honolulu:20231031T210000
DTSTAMP:20260425T180009
CREATED:20231023T193415Z
LAST-MODIFIED:20231023T193415Z
UID:7515-1698771600-1698786000@spinhawaii.org
SUMMARY:Kaanapali Family Halloween Bash
DESCRIPTION:For more info\, click here
URL:https://spinhawaii.org/events/kaanapali-family-halloween-bash/
LOCATION:HI
END:VEVENT
END:VCALENDAR