BEGIN:VCALENDAR
VERSION:2.0
PRODID:-//Special Parent Information Network: Hawaii - ECPv6.13.2.1//NONSGML v1.0//EN
CALSCALE:GREGORIAN
METHOD:PUBLISH
X-ORIGINAL-URL:https://spinhawaii.org
X-WR-CALDESC:Events for Special Parent Information Network: Hawaii
REFRESH-INTERVAL;VALUE=DURATION:PT1H
X-Robots-Tag:noindex
X-PUBLISHED-TTL:PT1H
BEGIN:VTIMEZONE
TZID:Pacific/Honolulu
BEGIN:STANDARD
TZOFFSETFROM:-1000
TZOFFSETTO:-1000
TZNAME:HST
DTSTART:20230101T000000
END:STANDARD
END:VTIMEZONE
BEGIN:VEVENT
DTSTART;TZID=Pacific/Honolulu:20231206T170000
DTEND;TZID=Pacific/Honolulu:20231206T190000
DTSTAMP:20260425T174733
CREATED:20231127T223904Z
LAST-MODIFIED:20231127T223904Z
UID:7573-1701882000-1701889200@spinhawaii.org
SUMMARY:Hilo: Holiday Decorations & Santa Visit
DESCRIPTION:Experience an evening of the Magic of Christmas\, especially for Children and Youth with Special Health Needs and Persons with Disabilities.\n\nHoliday lights\, decorations and a visit with Santa or his elves in a sensory-friendly environment.\n\nWednesday\, December 6\, 2023\n5:00 – 7:000 pm\nCounty of Hawaii Building: 25 Aupuni Street\, Hilo\nFREE\n\nHosted by the County of Hawaii Mayor Mitch Roth\, County of Hawaii Departments & Community Partners.
URL:https://spinhawaii.org/events/hilo-holiday-decorations-santa-visit/
END:VEVENT
END:VCALENDAR