BEGIN:VCALENDAR
VERSION:2.0
PRODID:-//Special Parent Information Network: Hawaii - ECPv6.13.2.1//NONSGML v1.0//EN
CALSCALE:GREGORIAN
METHOD:PUBLISH
X-WR-CALNAME:Special Parent Information Network: Hawaii
X-ORIGINAL-URL:https://spinhawaii.org
X-WR-CALDESC:Events for Special Parent Information Network: Hawaii
REFRESH-INTERVAL;VALUE=DURATION:PT1H
X-Robots-Tag:noindex
X-PUBLISHED-TTL:PT1H
BEGIN:VTIMEZONE
TZID:Pacific/Honolulu
BEGIN:STANDARD
TZOFFSETFROM:-1000
TZOFFSETTO:-1000
TZNAME:HST
DTSTART:20250101T000000
END:STANDARD
END:VTIMEZONE
BEGIN:VEVENT
DTSTART;TZID=Pacific/Honolulu:20250617T100000
DTEND;TZID=Pacific/Honolulu:20250617T120000
DTSTAMP:20260424T091652
CREATED:20250606T003733Z
LAST-MODIFIED:20250606T003733Z
UID:8386-1750154400-1750161600@spinhawaii.org
SUMMARY:Housing Accommodations Workshop
DESCRIPTION:Access to Independence is hosting a housing workshop on accommodations and accessibility. \nIn our second housing workshop session\, we will focus on requesting reasonable housing accommodations and accessibilities requirements under the Americans with Disabilities Act. Seats are limited\, so please RSVP. For accommodations\, please contact us no  later than 7 days before the event. We are not affiliated with HUD. \nContact: Caroline Riquelme at 808-625-5475
URL:https://spinhawaii.org/events/housing-accommodations-workshop/
LOCATION:Access to Independence\, 200 N. Vineyard Blvd. 5th floor Oahu Room\, Honolulu\, HI\, 96817\, United States
END:VEVENT
END:VCALENDAR