BEGIN:VCALENDAR
VERSION:2.0
PRODID:-//Special Parent Information Network: Hawaii - ECPv6.13.2.1//NONSGML v1.0//EN
CALSCALE:GREGORIAN
METHOD:PUBLISH
X-WR-CALNAME:Special Parent Information Network: Hawaii
X-ORIGINAL-URL:https://spinhawaii.org
X-WR-CALDESC:Events for Special Parent Information Network: Hawaii
REFRESH-INTERVAL;VALUE=DURATION:PT1H
X-Robots-Tag:noindex
X-PUBLISHED-TTL:PT1H
BEGIN:VTIMEZONE
TZID:Pacific/Honolulu
BEGIN:STANDARD
TZOFFSETFROM:-1000
TZOFFSETTO:-1000
TZNAME:HST
DTSTART:20250101T000000
END:STANDARD
END:VTIMEZONE
BEGIN:VEVENT
DTSTART;TZID=Pacific/Honolulu:20250606T100000
DTEND;TZID=Pacific/Honolulu:20250606T113000
DTSTAMP:20260423T210857
CREATED:20250515T184835Z
LAST-MODIFIED:20250515T184835Z
UID:8333-1749204000-1749209400@spinhawaii.org
SUMMARY:Family Hui Hawaii Parent Support
DESCRIPTION:🌿 You’re invited to our Friday Hui!\nWe host a warm and welcoming gathering for parents of children with disabilities. It’s a safe space to share\, connect\, and uplift one another. \n🗓️ Fridays | May 9 – June 6\n🕙 10:00 – 11:30 AM\n📍 Kapilina Beach Homes\, Pilikai Beach Park (in front of D’Lish)\n🔗 Register here \nOffice: (808) 230-7112\nEmail: resources@familyhuihawaii.org\n✨ Starting in June\, this hui will be moving to Waikele Community Park and will have a new name: Embrace Abilities Hui—a name that celebrates every child’s potential and the strength of our community.
URL:https://spinhawaii.org/events/family-hui-hawaii-parent-support-3/
END:VEVENT
END:VCALENDAR