BEGIN:VCALENDAR
VERSION:2.0
PRODID:-//Special Parent Information Network: Hawaii - ECPv6.13.2.1//NONSGML v1.0//EN
CALSCALE:GREGORIAN
METHOD:PUBLISH
X-WR-CALNAME:Special Parent Information Network: Hawaii
X-ORIGINAL-URL:https://spinhawaii.org
X-WR-CALDESC:Events for Special Parent Information Network: Hawaii
REFRESH-INTERVAL;VALUE=DURATION:PT1H
X-Robots-Tag:noindex
X-PUBLISHED-TTL:PT1H
BEGIN:VTIMEZONE
TZID:Pacific/Honolulu
BEGIN:STANDARD
TZOFFSETFROM:-1000
TZOFFSETTO:-1000
TZNAME:HST
DTSTART:20250101T000000
END:STANDARD
END:VTIMEZONE
BEGIN:VEVENT
DTSTART;TZID=Pacific/Honolulu:20250927T090000
DTEND;TZID=Pacific/Honolulu:20250927T120000
DTSTAMP:20260423T204813
CREATED:20250903T183629Z
LAST-MODIFIED:20250903T183629Z
UID:8494-1758963600-1758974400@spinhawaii.org
SUMMARY:Kakou Club at Sea Life Park
DESCRIPTION:Register and learn more at  https://bit.ly/KakouSeaLife \nAloha!  The Kakou Club has partnered up with Sea Life Park for a day of Discovery and Connection. \nDetails are below with a direct link to sign up. \nWhen: Saturday September 27th \nTime: From 9am to 12pm (or as long as you’d like to stay at the park) \nWho: Teens through adults with disabilities \nCost: $10 for Kakou Club participants\, $15 for chaperones \nCome learn about Hawaii’s radical reefs\, feed the honu and explore with new friends! \n\n\nhave fun in a safe environment \n\n\nlisten to an exclusive presentation\n\n\nparticipate in a scavenger hung\n\n\nenjoy a group lunch
URL:https://spinhawaii.org/events/kakou-club-at-sea-life-park/
LOCATION:Sea Life Park\, 41-202 Kalanianaʻole Hwy\, Waimanalo\, HI\, 96795\, United States
ORGANIZER;CN="Kakou Club":MAILTO:ssheppard@kakouclub.org
END:VEVENT
END:VCALENDAR