BEGIN:VCALENDAR
VERSION:2.0
PRODID:-//Special Parent Information Network: Hawaii - ECPv6.13.2.1//NONSGML v1.0//EN
CALSCALE:GREGORIAN
METHOD:PUBLISH
X-ORIGINAL-URL:https://spinhawaii.org
X-WR-CALDESC:Events for Special Parent Information Network: Hawaii
REFRESH-INTERVAL;VALUE=DURATION:PT1H
X-Robots-Tag:noindex
X-PUBLISHED-TTL:PT1H
BEGIN:VTIMEZONE
TZID:Pacific/Honolulu
BEGIN:STANDARD
TZOFFSETFROM:-1000
TZOFFSETTO:-1000
TZNAME:HST
DTSTART:20250101T000000
END:STANDARD
END:VTIMEZONE
BEGIN:VEVENT
DTSTART;TZID=Pacific/Honolulu:20250725T090000
DTEND;TZID=Pacific/Honolulu:20250725T120000
DTSTAMP:20260424T031552
CREATED:20250624T211928Z
LAST-MODIFIED:20250624T211928Z
UID:8404-1753434000-1753444800@spinhawaii.org
SUMMARY:ADA Statewide Rally
DESCRIPTION:A rally is happening on each island. \nKauai: 9:00 – 11:00 @ Historic County Lawn \nMaui: 10:00 – 12:00 @ Queen Kaahumanu Center \nKailua-Kona: 9:00 – 11:00 @ Belt Road & Henry Street \nOahu: 9:00 – 11:00 @ Hawaii State Capitol Rotunda \nTo register\, click here
URL:https://spinhawaii.org/events/ada-statewide-rally/
LOCATION:Hawaii
END:VEVENT
END:VCALENDAR