BEGIN:VCALENDAR
VERSION:2.0
PRODID:-//Special Parent Information Network: Hawaii - ECPv6.13.2.1//NONSGML v1.0//EN
CALSCALE:GREGORIAN
METHOD:PUBLISH
X-WR-CALNAME:Special Parent Information Network: Hawaii
X-ORIGINAL-URL:https://spinhawaii.org
X-WR-CALDESC:Events for Special Parent Information Network: Hawaii
REFRESH-INTERVAL;VALUE=DURATION:PT1H
X-Robots-Tag:noindex
X-PUBLISHED-TTL:PT1H
BEGIN:VTIMEZONE
TZID:Pacific/Honolulu
BEGIN:STANDARD
TZOFFSETFROM:-1000
TZOFFSETTO:-1000
TZNAME:HST
DTSTART:20250101T000000
END:STANDARD
END:VTIMEZONE
BEGIN:VEVENT
DTSTART;TZID=Pacific/Honolulu:20250412T110000
DTEND;TZID=Pacific/Honolulu:20250412T140000
DTSTAMP:20260424T125312
CREATED:20250408T182056Z
LAST-MODIFIED:20250408T182056Z
UID:8305-1744455600-1744466400@spinhawaii.org
SUMMARY:Glow in the Dark Egg Hunt
DESCRIPTION:The KELII Foundation is hosting an Autism/Special Needs Glow in the Dark Easter Egg Hunt for all ages.\n\nDATE: Saturday April 12\, 2025\nTIME: 11:00 am – 2:00 pm\nLOCATION: Harbor West Oahu Church\n590 Farrington Hwy. \, Kapolei\, HI 96707\n\nREGISTRATION OPEN LIMITED SPACE\nhttps://form.jotform.com/250758897657177\n\nEgg Hunt Schedule\n\nAges 0-3: 1100 am\nAges 4-6: 11:30 am\nAges 7-11: 12:00 pm\nAges 12-15: 12:30 pm\nAges 16 and up: 1:00 pm
URL:https://spinhawaii.org/events/glow-in-the-dark-egg-hunt/
ORGANIZER;CN="KELII Foundation":MAILTO:keliifoundation@live.com
END:VEVENT
END:VCALENDAR