BEGIN:VCALENDAR
VERSION:2.0
PRODID:-//Special Parent Information Network: Hawaii - ECPv6.13.2.1//NONSGML v1.0//EN
CALSCALE:GREGORIAN
METHOD:PUBLISH
X-WR-CALNAME:Special Parent Information Network: Hawaii
X-ORIGINAL-URL:https://spinhawaii.org
X-WR-CALDESC:Events for Special Parent Information Network: Hawaii
REFRESH-INTERVAL;VALUE=DURATION:PT1H
X-Robots-Tag:noindex
X-PUBLISHED-TTL:PT1H
BEGIN:VTIMEZONE
TZID:Pacific/Honolulu
BEGIN:STANDARD
TZOFFSETFROM:-1000
TZOFFSETTO:-1000
TZNAME:HST
DTSTART:20250101T000000
END:STANDARD
END:VTIMEZONE
BEGIN:VEVENT
DTSTART;TZID=Pacific/Honolulu:20250919T153000
DTEND;TZID=Pacific/Honolulu:20250919T190000
DTSTAMP:20260423T133122
CREATED:20250905T000513Z
LAST-MODIFIED:20250905T000513Z
UID:8502-1758295800-1758308400@spinhawaii.org
SUMMARY:Kona Traveling Mini Conference
DESCRIPTION:To register\, click here \nLDAH’s 18th Traveling Mini Conference Happening in Kona.  Hope to see you all there. This event is FREE! \nOur theme this year is: “Access Unlocked” Technology for All Learners \nExhibitors and Resources at both events! \n\nRegister here at\nhttps://forms.gle/nc1SSgW7dfHhxkvd8\n\nOr call the office at 808-536-9684\nTime: Friday\, September 19\, 20 at 3:30pm to 7:00pm \nPlace: West Hawaii Civic Center \n74-677 Kealakehe Pkwy \nKailua-Kona\, HI 96740 \nGuest Speakers \n\nDr. Nicole Weston: Exploring How Movement-Based Interventions and Pediatric Physical Therapy Supports Learners with Disabilities Across Diverse Settings\nLDAH: Preparing for an IEP Meeting using A.I\nJulia Althoff:  Supported Decision Making; A Powerful Alternative to Guardianship\nAmanda Kaahanui: Growing Your Parent Advocacy Voice\nJoseph Gross\, Patricia Luken\, Judith Nomura: Cracking the Code: Understanding Assistive Technology\n\nDinner will be served.
URL:https://spinhawaii.org/events/kona-traveling-mini-conference-3/
LOCATION:West Hawaii Civic Center\, 74-677 Kealakehe Parkway\, Kailua-Kona\, Hawaii\, 96740
END:VEVENT
END:VCALENDAR