BEGIN:VCALENDAR
VERSION:2.0
PRODID:-//Special Parent Information Network: Hawaii - ECPv6.13.2.1//NONSGML v1.0//EN
CALSCALE:GREGORIAN
METHOD:PUBLISH
X-ORIGINAL-URL:https://spinhawaii.org
X-WR-CALDESC:Events for Special Parent Information Network: Hawaii
REFRESH-INTERVAL;VALUE=DURATION:PT1H
X-Robots-Tag:noindex
X-PUBLISHED-TTL:PT1H
BEGIN:VTIMEZONE
TZID:Pacific/Honolulu
BEGIN:STANDARD
TZOFFSETFROM:-1000
TZOFFSETTO:-1000
TZNAME:HST
DTSTART:20250101T000000
END:STANDARD
END:VTIMEZONE
BEGIN:VEVENT
DTSTART;TZID=Pacific/Honolulu:20250212T170000
DTEND;TZID=Pacific/Honolulu:20250212T180000
DTSTAMP:20260425T051215
CREATED:20241219T205940Z
LAST-MODIFIED:20241219T205940Z
UID:8177-1739379600-1739383200@spinhawaii.org
SUMMARY:LDAH Training: Parents as Collaborative Leaders
DESCRIPTION:Please join LDAH – Leadership in Disabilities and Achievement Hawaii – for our virtual workshops at the start of Year 2025.  These sessions are for all families and professionals in the State of Hawaii.   \nFebruary  12    Parent as Collaborative Leaders \nFebruary  26    Measurable Goals \nTime: 5:00 pm – 6:00 pm each day \nLocation: zoom platform \nWhat to bring: your spirit of learning and engagement. \nTo register:  call our office at 808-536-9684  or electronic link https://forms.gle/gzkVnMy44oKho3oL6 \nUpon registering\, as a reminder you will receive two emails two weeks and two days prior to the scheduled event.  If there are handouts for each workshop\, we will send it prior to the workshop.
URL:https://spinhawaii.org/events/ldah-training-parents-as-collaborative-leaders/
LOCATION:Zoom
END:VEVENT
BEGIN:VEVENT
DTSTART;TZID=Pacific/Honolulu:20250220T100000
DTEND;TZID=Pacific/Honolulu:20250220T120000
DTSTAMP:20260425T051215
CREATED:20241202T225858Z
LAST-MODIFIED:20241202T225858Z
UID:8162-1740045600-1740052800@spinhawaii.org
SUMMARY:LDAH Small Group Session in Hilo
DESCRIPTION:Please join LDAH – Leadership in Disabilities and Achievement Hawaii – for Small Group Sessions in Hilo!  These sessions are for families who have concerns about their Individualized Education Program/504 plan and unsure of what direction to move forward with their next plan of action. \nDate: Thursday January 16 & Thursday February 20\, 2025 \nTime: 10:00 am – 12:00 pm each day \nLocation: Easter Seals\, 49 Kaiulani Street\, Hilo\, HI 96720 \nVenue: In Person \nWhat to bring: the most current IEP and current evaluations for your child. \nFamilies will receive individualized support from LDAH personnel while developing a plan of action to address their primary concerns for their child while networking with other parents.  There is a limit of 3 families for each session\, so sign up early! \nTo register:  call our office at 808-536-9684 \nIf families are calling LDAH for the first time\, we will conduct an intake process\, which takes about 30 minutes.
URL:https://spinhawaii.org/events/ldah-small-group-session-in-hilo/
LOCATION:Easter Seals Hilo\, 49 Kauulani Street\, Hilo\, HI\, 96720\, United States
END:VEVENT
BEGIN:VEVENT
DTSTART;TZID=Pacific/Honolulu:20250226T170000
DTEND;TZID=Pacific/Honolulu:20250226T180000
DTSTAMP:20260425T051215
CREATED:20241219T210046Z
LAST-MODIFIED:20241219T210046Z
UID:8179-1740589200-1740592800@spinhawaii.org
SUMMARY:LDAH Training: Measurable Goals
DESCRIPTION:Please join LDAH – Leadership in Disabilities and Achievement Hawaii – for our virtual workshops at the start of Year 2025.  These sessions are for all families and professionals in the State of Hawaii.   \nFebruary  26    Measurable Goals \nTime: 5:00 pm – 6:00 pm each day \nLocation: zoom platform \nWhat to bring: your spirit of learning and engagement. \nTo register:  call our office at 808-536-9684  or electronic link https://forms.gle/gzkVnMy44oKho3oL6 \nUpon registering\, as a reminder you will receive two emails two weeks and two days prior to the scheduled event.  If there are handouts for each workshop\, we will send it prior to the workshop.
URL:https://spinhawaii.org/events/ldah-training-measurable-goals/
LOCATION:Zoom
END:VEVENT
END:VCALENDAR