BEGIN:VCALENDAR
VERSION:2.0
PRODID:-//Special Parent Information Network: Hawaii - ECPv6.13.2.1//NONSGML v1.0//EN
CALSCALE:GREGORIAN
METHOD:PUBLISH
X-WR-CALNAME:Special Parent Information Network: Hawaii
X-ORIGINAL-URL:https://spinhawaii.org
X-WR-CALDESC:Events for Special Parent Information Network: Hawaii
REFRESH-INTERVAL;VALUE=DURATION:PT1H
X-Robots-Tag:noindex
X-PUBLISHED-TTL:PT1H
BEGIN:VTIMEZONE
TZID:Pacific/Honolulu
BEGIN:STANDARD
TZOFFSETFROM:-1000
TZOFFSETTO:-1000
TZNAME:HST
DTSTART:20250101T000000
END:STANDARD
END:VTIMEZONE
BEGIN:VEVENT
DTSTART;TZID=Pacific/Honolulu:20250129T170000
DTEND;TZID=Pacific/Honolulu:20250129T180000
DTSTAMP:20260425T062911
CREATED:20241219T205724Z
LAST-MODIFIED:20241219T205724Z
UID:8173-1738170000-1738173600@spinhawaii.org
SUMMARY:LDAH Training: Finding Common Ground
DESCRIPTION:Please join LDAH – Leadership in Disabilities and Achievement Hawaii – for our virtual workshops at the start of Year 2025.  These sessions are for all families and professionals in the State of Hawaii.   \nJanuary    29    Finding Common Ground for Optimal Teams \nFebruary  12    Parent as Collaborative Leaders \nFebruary  26    Measurable Goals \nTime: 5:00 pm – 6:00 pm each day \nLocation: zoom platform \nWhat to bring: your spirit of learning and engagement. \nTo register:  call our office at 808-536-9684  or electronic link https://forms.gle/gzkVnMy44oKho3oL6 \nUpon registering\, as a reminder you will receive two emails two weeks and two days prior to the scheduled event.  If there are handouts for each workshop\, we will send it prior to the workshop.
URL:https://spinhawaii.org/events/ldah-training-finding-common-ground/
LOCATION:Zoom
END:VEVENT
END:VCALENDAR